BEGIN:VCALENDAR
VERSION:2.0
PRODID:-//ChamberMaster//Event Calendar 2.0//EN
METHOD:PUBLISH
X-PUBLISHED-TTL:P3D
REFRESH-INTERVAL:P3D
CALSCALE:GREGORIAN
BEGIN:VEVENT
DTSTART:20180120T010000Z
DTEND:20180120T220000Z
X-MICROSOFT-CDO-ALLDAYEVENT:FALSE
SUMMARY:FiberSpace2018 Session 1
DESCRIPTION:Open to al levels\, beginners to advanced\, come and learn another fiber art or just get started. In 2018 Heartland Farm will offer all of the fiber skills at both sessions: knitting & Crocheting\, Spinning and weaving - you choose one!\n\n\n\nSession 1 - January 19-20 7-9pm & 9am-4pm\n\nSession 2 - February 9-10 7-9pm & 9am-4pm\n\n\n\nFor more information call 620-923-4585.
X-ALT-DESC;FMTTYPE=text/html:Open to al levels\, beginners to advanced\, come and learn another fiber art or just get started. In 2018 Heartland Farm will offer all of the fiber skills at both sessions: knitting &amp\; Crocheting\, Spinning and weaving - you choose one!<br />\n<br />\nSession 1 - January 19-20 7-9pm &amp\; 9am-4pm<br />\nSession 2 - February 9-10 7-9pm &amp\; 9am-4pm<br />\n<br />\nFor more information call 620-923-4585.
LOCATION:Heartland Farm 1049 CR 390 Pawnee Rock\, KS 67567
UID:e.2303.3604
SEQUENCE:3
DTSTAMP:20260422T081929Z
URL:https://members.greatbend.org/events/details/fiberspace2018-session-1-3604
END:VEVENT

END:VCALENDAR
