BEGIN:VCALENDAR
VERSION:2.0
PRODID:-//ChamberMaster//Event Calendar 2.0//EN
METHOD:PUBLISH
X-PUBLISHED-TTL:P3D
REFRESH-INTERVAL:P3D
CALSCALE:GREGORIAN
BEGIN:VEVENT
DTSTART:20171021T123000Z
DTEND:20171021T170000Z
X-MICROSOFT-CDO-ALLDAYEVENT:FALSE
SUMMARY:Flatlander Half Marathon & YP5K Run/Walk
DESCRIPTION:Join us in Great Bend\, Kansas for the 3rd Annual Flatlander Half Marathon & YP5K on Saturday\, October 21st. The races will start and finish at Jack Kilby Square in downtown Great Bend\, and both will utilize a professionally chipped timing system provided by Timer Guys. Participants can elect to run or walk the 5K course or take on the more challenging half marathon course. Each participant receives a race t-shirt\, a swag bag of goodies from our sponsors\, a complimentary breakfast\, along with free finish line photos published on our Facebook page after the event. Cost is $30 per 5K participant or $60 per half marathon participant. Prices increase to $35 and $70 respectively after September 25th. T-shirt sizes are not guaranteed after the earlybird deadline. Proceeds will be used to sponsor fitness and wellness initiatives in Barton County. Post your race photos using the hashtag #YP5K on social media!\n\nFlatlander Half Marathon - 13.1 Miles\n\nTake a scenic tour of the Great Bend community on our dynamic race route\, which incorporates two City parks\, our notorious hike and bike trail\, as well as beautiful tree-lined residential streets - all on flat terrain with well-coordinated hydration stations. Ample restroom facilities are made available at the starting line and at the park pavilion. Awards will be presented to the top male and top female finishers in five age groups (13 to 18\, 19 to 25\, 26 to 35\, 36 to 49\, 50 and Over). All half marathon finishers will receive a medal. *Pending USATF certification.\n\nYP5K - 3.1 Miles\n\nJoin us at Jack Kilby Square for a scenic route through Great Bend that includes Brit Spaugh Park and well-marked residential areas. Medals will be awarded to the top three male and female finishers in six age groups (12 and Under\, 13 to 18\, 19 to 25\, 26 to 35\, 36 to 49\, 50 and Over).\n\nRACE DAY SCHEDULE:\n\n6 a.m. Registration Opens\n\n7:30 a.m. Half Marathon Shotgun Start\n\n8:30 a.m. 5K Shotgun Start\n\n8:30 a.m. Family Fun Zone Opens\n\n9:30 a.m. 5K Award Ceremony\n\n10:45 a.m. Half Marathon Award Ceremony
X-ALT-DESC;FMTTYPE=text/html:<div class="panel-heading" style="font-size: 14px\; color: rgb(254\, 148\, 35)\; padding: 0px 0px 10px\; border-width: 0px 0px 2px\; border-bottom-style: solid\; border-color: rgb(254\, 148\, 35)\; border-top-right-radius: 3px\; border-top-left-radius: 3px\; background-image: none\; background-position: initial\; background-size: initial\; background-repeat: initial\; background-attachment: initial\; background-origin: initial\; background-clip: initial\; margin: 0px 0px 15px\; font-family: &quot\;Open Sans&quot\;\, sans-serif\;">\n<p style="color: rgb(16\, 99\, 134)\; font-size: 14px\; padding: 0px\; line-height: 23px\; margin: 0px 0px 10px\; font-family: &quot\;Open Sans&quot\;\, sans-serif\;">Join us in Great Bend\, Kansas for the 3rd Annual Flatlander Half Marathon &amp\; YP5K on Saturday\, October 21st. The races will start and finish at Jack Kilby Square in downtown Great Bend\, and both will utilize a professionally chipped timing system provided by Timer Guys. Participants can elect to run or walk the 5K course or take on the more challenging half marathon course. Each participant receives a race t-shirt\, a swag bag of goodies from our sponsors\, a complimentary breakfast\, along with free finish line photos published on our Facebook page after the event. Cost is $30 per 5K participant or $60 per half marathon participant. Prices increase to $35 and $70 respectively after September 25th. T-shirt sizes are not guaranteed after the earlybird deadline. Proceeds will be used to sponsor fitness and wellness initiatives in Barton County. Post your race photos using the hashtag #YP5K on social media!</p>\n\n<p style="color: rgb(16\, 99\, 134)\; font-size: 14px\; padding: 0px\; line-height: 23px\; margin: 0px 0px 10px\; font-family: &quot\;Open Sans&quot\;\, sans-serif\;"><strong>Flatlander Half Marathon - 13.1 Miles</strong><br />\nTake a scenic tour of the Great Bend community on our dynamic race route\, which incorporates two City parks\, our notorious hike and bike trail\, as well as beautiful tree-lined residential streets - all on flat terrain with well-coordinated hydration stations. Ample restroom facilities are made available at the starting line and at the park pavilion. Awards will be presented to the top male and top female finishers in five age groups (13 to 18\, 19 to 25\, 26 to 35\, 36 to 49\, 50 and Over). All half marathon finishers will receive a medal. *Pending USATF certification.</p>\n\n<p style="color: rgb(16\, 99\, 134)\; font-size: 14px\; padding: 0px\; line-height: 23px\; margin: 0px 0px 10px\; font-family: &quot\;Open Sans&quot\;\, sans-serif\;"><strong>YP5K - 3.1 Miles</strong><br />\nJoin us at Jack Kilby Square for a scenic route through Great Bend that includes Brit Spaugh Park and well-marked residential areas. Medals will be awarded to the top three male and female finishers in six age groups (12 and Under\, 13 to 18\, 19 to 25\, 26 to 35\, 36 to 49\, 50 and Over).</p>\n\n<p style="color: rgb(16\, 99\, 134)\; font-size: 14px\; padding: 0px\; line-height: 23px\; margin: 0px 0px 10px\; font-family: &quot\;Open Sans&quot\;\, sans-serif\;"><strong>RACE DAY SCHEDULE:</strong><br />\n6 a.m. Registration Opens<br />\n7:30 a.m. Half Marathon Shotgun Start<br />\n8:30 a.m. 5K Shotgun Start<br />\n8:30 a.m. Family Fun Zone Opens<br />\n9:30 a.m. 5K Award Ceremony<br />\n10:45 a.m. Half Marathon Award Ceremony</p>\n</div>\n\n<div class="panel-body" style="font-size: 14px\; color: rgb(16\, 99\, 134)\; padding: 0px\; word-wrap: break-word\; margin: 0px\; border: 0px\; font-family: &quot\;Open Sans&quot\;\, sans-serif\;">\n<div style="margin-bottom: 10px\;">&nbsp\;</div>\n</div>\n
LOCATION:Jack Kilby Square 1400 Main Street Great Bend\, KS
UID:e.2303.3049
SEQUENCE:3
DTSTAMP:20260422T132049Z
URL:https://members.greatbend.org/events/details/flatlander-half-marathon-yp5k-run-walk-3049
END:VEVENT

END:VCALENDAR
