BEGIN:VCALENDAR
VERSION:2.0
PRODID:-//ChamberMaster//Event Calendar 2.0//EN
METHOD:PUBLISH
X-PUBLISHED-TTL:P3D
REFRESH-INTERVAL:P3D
CALSCALE:GREGORIAN
BEGIN:VEVENT
DTSTART:20180812T190000Z
DTEND:20180812T210000Z
X-MICROSOFT-CDO-ALLDAYEVENT:FALSE
SUMMARY:Flower Series - Gifts from the Garden
DESCRIPTION:Discover the many gifts your flower garden provides\, during the Kansas Wetlands Education Center's adult class series\, "Gifts from the Garden" the final class in this series is Sunday\, August 12th at 2:00 at KWEC. Botanical printing is the subject\, you will roam the KWEC garden and prairie to gather materials needed to create your masterpiece. Register by August 6\, for this free class\, by calling KWEC at 1-877-243-9268.
X-ALT-DESC;FMTTYPE=text/html:Discover the many gifts your flower garden provides\, during the Kansas Wetlands Education Center&#39\;s adult class series\, &quot\;Gifts from the Garden&quot\; the final class in this series is Sunday\, August 12th at 2:00 at KWEC. Botanical printing is the subject\, you will roam the KWEC garden and prairie to gather materials needed to create your masterpiece. Register by August 6\, for this free class\, by calling KWEC at 1-877-243-9268.
LOCATION:Kansas Wetlands Education Center\, 592 NE K-156 Hwy\, Great Bend\, KS 67530
UID:e.2303.6108
SEQUENCE:3
DTSTAMP:20260422T082824Z
URL:https://members.greatbend.org/events/details/flower-series-gifts-from-the-garden-6108
END:VEVENT

END:VCALENDAR
