BEGIN:VCALENDAR
VERSION:2.0
PRODID:-//ChamberMaster//Event Calendar 2.0//EN
METHOD:PUBLISH
X-PUBLISHED-TTL:P3D
REFRESH-INTERVAL:P3D
CALSCALE:GREGORIAN
BEGIN:VEVENT
DTSTART:20170813T140000Z
DTEND:20170813T190000Z
X-MICROSOFT-CDO-ALLDAYEVENT:FALSE
SUMMARY:Fore the Kids Golf Classic Fundraiser
DESCRIPTION:Junior/Senior Golf tournament for the benefit of the junior golfing summer program as well as the GBHS golfing programs. This tournament is ran by members of the junior golf programs and proceeds are donated to the GBHS golf program and the junior golf program providing discounted lessons and equipment for summer play in Great Bend.
X-ALT-DESC;FMTTYPE=text/html:<span style="color: rgb(13\, 6\, 0)\; font-family: Georgia\; font-size: 13.3333px\;">Junior/Senior Golf tournament for the benefit of the junior golfing summer program as well as the GBHS golfing programs. This tournament is ran by members of the junior golf programs and proceeds are donated to the GBHS golf program and the junior golf program providing discounted lessons and equipment for summer play in Great Bend.</span>
LOCATION:Stoneridge Country Club 1438 24th St Great Bend\, KS 67530
UID:e.2303.3056
SEQUENCE:3
DTSTAMP:20260422T155518Z
URL:https://members.greatbend.org/events/details/fore-the-kids-golf-classic-fundraiser-3056
END:VEVENT

END:VCALENDAR
