BEGIN:VCALENDAR
VERSION:2.0
PRODID:-//ChamberMaster//Event Calendar 2.0//EN
METHOD:PUBLISH
X-PUBLISHED-TTL:P3D
REFRESH-INTERVAL:P3D
CALSCALE:GREGORIAN
BEGIN:VEVENT
DTSTART:20171003T220000Z
DTEND:20171004T010000Z
X-MICROSOFT-CDO-ALLDAYEVENT:FALSE
SUMMARY:Four Corners Oktoberfest
DESCRIPTION:You're invited to the 27th Annual Four Corners Oktoberfest! \n\nJoin us for a Business After Hours on Tuesday\, Oct. 3rd\, 5-8pm\, under the awning at 16th & Main Street for free brauts\, beer & all the fixings!\n\n\n\nEvent Sponsors: Thill & Associates\, Waddell & Reed\, Beautiful Beginnings & Rosewood Furniture Gallery
X-ALT-DESC;FMTTYPE=text/html:<span style="color: rgb(13\, 6\, 0)\; font-family: Georgia\; font-size: 13.3333px\;">You&#39\;re invited to the 27th Annual Four Corners Oktoberfest!&nbsp\;</span><br style="color: rgb(13\, 6\, 0)\; font-family: Georgia\; font-size: 13.3333px\;" />\n<span style="color: rgb(13\, 6\, 0)\; font-family: Georgia\; font-size: 13.3333px\;">Join us for a Business After Hours on Tuesday\, Oct. 3rd\, 5-8pm\, under the awning at 16th &amp\; Main Street for free brauts\, beer &amp\; all the fixings!</span><br style="color: rgb(13\, 6\, 0)\; font-family: Georgia\; font-size: 13.3333px\;" />\n<br style="color: rgb(13\, 6\, 0)\; font-family: Georgia\; font-size: 13.3333px\;" />\n<span style="color: rgb(13\, 6\, 0)\; font-family: Georgia\; font-size: 13.3333px\;">Event Sponsors: Thill &amp\; Associates\, Waddell &amp\; Reed\, Beautiful Beginnings &amp\; Rosewood Furniture Gallery</span>
LOCATION:Rosewood Furniture Gallery South Awning 16th & Main Street
UID:e.2303.1694
SEQUENCE:3
DTSTAMP:20260422T132049Z
URL:https://members.greatbend.org/events/details/four-corners-oktoberfest-1694
END:VEVENT

END:VCALENDAR
