BEGIN:VCALENDAR
VERSION:2.0
PRODID:-//ChamberMaster//Event Calendar 2.0//EN
METHOD:PUBLISH
X-PUBLISHED-TTL:P3D
REFRESH-INTERVAL:P3D
CALSCALE:GREGORIAN
BEGIN:VEVENT
DTSTART:20170829T220000Z
DTEND:20170830T010000Z
X-MICROSOFT-CDO-ALLDAYEVENT:FALSE
SUMMARY:Freddy's Frozen Custard Pilot Club Event
DESCRIPTION:Come by Freddy's Frozen Custard and Steakburgers\n\n\n\nJoin your friends and family at Freddy's with the Pilot Club of Great Bend\n\n\n\nBe sure to tell your cashier you are part of the Pilot Event.
X-ALT-DESC;FMTTYPE=text/html:Come by Freddy&#39\;s Frozen Custard and Steakburgers<br />\n<br />\nJoin your friends and family at Freddy&#39\;s with the Pilot Club of Great Bend<br />\n<br />\nBe sure to tell your cashier you are part of the Pilot Event.
LOCATION:Freddy's Frozen Custard and Steakburgers 3008 10th Street Great Bend\, KS
UID:e.2303.3340
SEQUENCE:3
DTSTAMP:20260422T155742Z
URL:https://members.greatbend.org/events/details/freddy-s-frozen-custard-pilot-club-event-3340
END:VEVENT

END:VCALENDAR
