BEGIN:VCALENDAR
VERSION:2.0
PRODID:-//ChamberMaster//Event Calendar 2.0//EN
METHOD:PUBLISH
X-PUBLISHED-TTL:P3D
REFRESH-INTERVAL:P3D
CALSCALE:GREGORIAN
BEGIN:VEVENT
DTSTART:20240621T220000Z
DTEND:20240622T010000Z
X-MICROSOFT-CDO-ALLDAYEVENT:FALSE
SUMMARY:Free Garden Tour
DESCRIPTION:Barton County Extension Master Gardeners invites you to a Free Garden Tour! The tour highlights the beauty in each stop with educational elements. and is lead by Extension Master Gardeners. Tour locations announced on Facebook (Barton County Extension Master Gardener).
X-ALT-DESC;FMTTYPE=text/html:Barton County Extension Master Gardeners invites you to a Free Garden Tour! The tour highlights the beauty in each stop with educational elements. and is lead by Extension Master Gardeners. Tour locations announced on Facebook (Barton County Extension Master Gardener).
LOCATION:
UID:e.2303.13648
SEQUENCE:3
DTSTAMP:20260425T220910Z
URL:https://members.greatbend.org/events/details/free-garden-tour-13648
END:VEVENT

END:VCALENDAR
