BEGIN:VCALENDAR
VERSION:2.0
PRODID:-//ChamberMaster//Event Calendar 2.0//EN
METHOD:PUBLISH
X-PUBLISHED-TTL:P3D
REFRESH-INTERVAL:P3D
CALSCALE:GREGORIAN
BEGIN:VEVENT
DTSTART:20170804T020000Z
DTEND:20170804T040000Z
X-MICROSOFT-CDO-ALLDAYEVENT:FALSE
SUMMARY:Free Movie in the Square
DESCRIPTION:Movie Showing: Little Giants\n\n Part of Summer Street Stroll\n\nMOVIE STARTS AT DARK\n\n Bring your blanket or lawn chair to Jack Kilby Square and enjoy free popcorn & drink
X-ALT-DESC;FMTTYPE=text/html:<span style="color: rgb(102\, 0\, 0)\; font-family: Tahoma\, Arial\, Verdana\;">Movie Showing: Little Giants<br />\n&#8203\;Part of Summer Street Stroll<br />\nMOVIE STARTS AT DARK<br />\n&#8203\;Bring your blanket or lawn chair to Jack Kilby Square and enjoy free popcorn &amp\; drink</span>
LOCATION:Jack Kilby Square
UID:e.2303.3011
SEQUENCE:3
DTSTAMP:20260422T155630Z
URL:https://members.greatbend.org/events/details/free-movie-in-the-square-3011
END:VEVENT

END:VCALENDAR
