BEGIN:VCALENDAR
VERSION:2.0
PRODID:-//ChamberMaster//Event Calendar 2.0//EN
METHOD:PUBLISH
X-PUBLISHED-TTL:P3D
REFRESH-INTERVAL:P3D
CALSCALE:GREGORIAN
BEGIN:VEVENT
DTSTART:20171017T140000Z
DTEND:20171018T200000Z
X-MICROSOFT-CDO-ALLDAYEVENT:FALSE
SUMMARY:FREE Tax Worskhops for Small Businesses
DESCRIPTION:KDOR Sales and Compensating Use Tax for Retail Business\, 9 am - 12 pm: You will gain a basic understanding of the goods and services subject to sales tax and applicable exemptions. There will be an overview of record keeping for audit compliance\, state of Kansas employee withholding as it pertains to Kansas income tax\, and estimated tax payments. Register here: https://ksbdc.ecenterdirect.com/events/22987 KDOL Understanding Regulations: Unemployment Tax\, 12 - 1 pm: This course is an overview of the Kansas unemployment tax requirements including\, Unemployment Insurance (UI) Tax Liabilities\, applying for a UI tax account\, steps for filing tax returns\, new hire info\, State Information Data Exchange System\, and classifying a Independent Contractor. Register here: https://ksbdc.ecenterdirect.com/events/23113 KDOR Sales and Compensating Use Tax for Contractors\, 1-3 pm: This workshop is devoted exclusively to sales tax issue for construction contractors and subcontractors. We will discuss how sales tax applies to materials and labor\, the use of Project Exemption Certificates\, and explain invoicing and billing your customers. Register here: https://ksbdc.ecenterdirect.com/events/22988
X-ALT-DESC;FMTTYPE=text/html:KDOR Sales and Compensating Use Tax for Retail Business\, 9 am - 12 pm: You will gain a basic understanding of the goods and services subject to sales tax and applicable exemptions. There will be an overview of record keeping for audit compliance\, state of Kansas employee withholding as it pertains to Kansas income tax\, and estimated tax payments. Register here: https://ksbdc.ecenterdirect.com/events/22987 KDOL Understanding Regulations: Unemployment Tax\, 12 - 1 pm: This course is an overview of the Kansas unemployment tax requirements including\, Unemployment Insurance (UI) Tax Liabilities\, applying for a UI tax account\, steps for filing tax returns\, new hire info\, State Information Data Exchange System\, and classifying a Independent Contractor. Register here: https://ksbdc.ecenterdirect.com/events/23113 KDOR Sales and Compensating Use Tax for Contractors\, 1-3 pm: This workshop is devoted exclusively to sales tax issue for construction contractors and subcontractors. We will discuss how sales tax applies to materials and labor\, the use of Project Exemption Certificates\, and explain invoicing and billing your customers. Register here: https://ksbdc.ecenterdirect.com/events/22988
LOCATION:Sternberg Museum\, 3000 Sternberg Drive\, Hays\, Kansas
UID:e.2303.3396
SEQUENCE:3
DTSTAMP:20260422T133103Z
URL:https://members.greatbend.org/events/details/free-tax-worskhops-for-small-businesses-3396
END:VEVENT

END:VCALENDAR
