BEGIN:VCALENDAR
VERSION:2.0
PRODID:-//ChamberMaster//Event Calendar 2.0//EN
METHOD:PUBLISH
X-PUBLISHED-TTL:P3D
REFRESH-INTERVAL:P3D
CALSCALE:GREGORIAN
BEGIN:VEVENT
DTSTART;VALUE=DATE:20171121
DTEND;VALUE=DATE:20171122
TRANSP:TRANSPARENT
X-MICROSOFT-CDO-ALLDAYEVENT:TRUE
SUMMARY:GBCF's Giving Tuesday
DESCRIPTION:As a Giving Tuesday champion\, Golden Belt Community Foundation inspires donations from all ages and gifts of any amount to reach our goal of 1\,000 donors this year. Your gift stays right here in our community helping local charities with long-term funding needs. There is $25\,000+ in matching funds awarded in proportion to the total amount raised for the entire month of November. Matching funds go directly back to the charity assisting with immediate agency needs\, while your gift to their endowment fund creates a lasting legacy. GBCF is bringing together philanthropists like you to shape our community's future.
X-ALT-DESC;FMTTYPE=text/html:As a Giving Tuesday champion\, Golden Belt Community Foundation inspires donations from all ages and gifts of any amount to reach our goal of 1\,000 donors this year. Your gift stays right here in our community helping local charities with long-term funding needs. There is $25\,000+ in matching funds awarded in proportion to the total amount raised for the entire month of November. Matching funds go directly back to the charity assisting with immediate agency needs\, while your gift to their endowment fund creates a lasting legacy. GBCF is bringing together philanthropists like you to shape our community&rsquo\;s future.
LOCATION:Golden Belt Community Foundation 1307 Williams St. Great Bend\, KS 67530
UID:e.2303.3449
SEQUENCE:3
DTSTAMP:20260422T115707Z
URL:https://members.greatbend.org/events/details/gbcf-s-giving-tuesday-11-21-2017-3449
END:VEVENT

END:VCALENDAR
