BEGIN:VCALENDAR
VERSION:2.0
PRODID:-//ChamberMaster//Event Calendar 2.0//EN
METHOD:PUBLISH
X-PUBLISHED-TTL:P3D
REFRESH-INTERVAL:P3D
CALSCALE:GREGORIAN
BEGIN:VEVENT
DTSTART:20220102T200000Z
DTEND:20220102T230000Z
X-MICROSOFT-CDO-ALLDAYEVENT:FALSE
SUMMARY:GBCT Auditions "All My Sons"
DESCRIPTION:Auditions for the next Great Bend Community Theatre\, GBCT\, production of "All My Sons" will be held on Sunday\, Jan 2nd at 2 pm and Monday\, Jan 3rd at 7pm. Auditions will take place at the Crest Theatre located at Lakin & Kansas.
X-ALT-DESC;FMTTYPE=text/html:Auditions for the next Great Bend Community Theatre\, GBCT\, production of &ldquo\;All My Sons&rdquo\; will be held on Sunday\, Jan 2nd at 2 pm and Monday\, Jan 3rd at 7pm. Auditions will take place at the Crest Theatre located at Lakin &amp\; Kansas.
LOCATION:Crest Theatre 1905 Lakin Ave. Great Bend\, KS 67530
UID:e.2303.9052
SEQUENCE:3
DTSTAMP:20260421T081533Z
URL:https://members.greatbend.org/events/details/gbct-auditions-all-my-sons-9052
END:VEVENT

END:VCALENDAR
