BEGIN:VCALENDAR
VERSION:2.0
PRODID:-//ChamberMaster//Event Calendar 2.0//EN
METHOD:PUBLISH
X-PUBLISHED-TTL:P3D
REFRESH-INTERVAL:P3D
CALSCALE:GREGORIAN
BEGIN:VEVENT
DTSTART:20230204T000000Z
DTEND:20230204T040000Z
X-MICROSOFT-CDO-ALLDAYEVENT:FALSE
SUMMARY:GBHS - Winter Homecoming
DESCRIPTION:Winter Homecoming\, GBHS vs. Liberal\, basketball
X-ALT-DESC;FMTTYPE=text/html:Winter Homecoming\, GBHS vs. Liberal\, basketball
LOCATION:Great Bend High School
UID:e.2303.10905
SEQUENCE:3
DTSTAMP:20260424T215319Z
URL:https://members.greatbend.org/events/details/gbhs-winter-homecoming-02-03-2023-10905
END:VEVENT

END:VCALENDAR
