BEGIN:VCALENDAR
VERSION:2.0
PRODID:-//ChamberMaster//Event Calendar 2.0//EN
METHOD:PUBLISH
X-PUBLISHED-TTL:P3D
REFRESH-INTERVAL:P3D
CALSCALE:GREGORIAN
BEGIN:VEVENT
DTSTART:20170813T190000Z
DTEND:20170813T210000Z
X-MICROSOFT-CDO-ALLDAYEVENT:FALSE
SUMMARY:Gifts from the Garden
DESCRIPTION:Discover the many Gifts your flower garden provides\, from edible treats to decorative items\, during the Kansas Wetlands Education Center's adult class series\, "Gifts from the Garden" held throughout the summer months. Second in the series: Another old custom\, pressing flowers is the subject of the July 16th class\, from 2 to 4 pm. Roam the KWEC's garden and prairie to gather and press your own flowers\, utilizing the tried-and-true method and a new\, faster method. Create your own pressed flower card/picture\, applying previously pressed flowers from the KWEC garden. Register by July 10\, for this free class\, by calling KWEC at 1-877-243-9268.
X-ALT-DESC;FMTTYPE=text/html:<span style="color: rgb(13\, 6\, 0)\; font-family: Georgia\; font-size: 13.3333px\;">Discover the many Gifts your flower garden provides\, from edible treats to decorative items\, during the Kansas Wetlands Education Center&#39\;s adult class series\, &quot\;Gifts from the Garden&quot\; held throughout the summer months. Second in the series: Another old custom\, pressing flowers is the subject of the July 16th class\, from 2 to 4 pm. Roam the KWEC&#39\;s garden and prairie to gather and press your own flowers\, utilizing the tried-and-true method and a new\, faster method. Create your own pressed flower card/picture\, applying previously pressed flowers from the KWEC garden. Register by July 10\, for this free class\, by calling KWEC at 1-877-243-9268.</span>
LOCATION:Kansas Wetlands Education Center 592 NE K-156 Hwy Great Bend\, KS 67530
UID:e.2303.1763
SEQUENCE:3
DTSTAMP:20260422T155630Z
URL:https://members.greatbend.org/events/details/gifts-from-the-garden-1763
END:VEVENT

END:VCALENDAR
