BEGIN:VCALENDAR
VERSION:2.0
PRODID:-//ChamberMaster//Event Calendar 2.0//EN
METHOD:PUBLISH
X-PUBLISHED-TTL:P3D
REFRESH-INTERVAL:P3D
CALSCALE:GREGORIAN
BEGIN:VEVENT
DTSTART:20210211T220000Z
DTEND:20210211T230000Z
X-MICROSOFT-CDO-ALLDAYEVENT:FALSE
SUMMARY:Gingerbread Man Mystery Event
DESCRIPTION:Oh No! Some of our gingerbread men went missing! Who stole the cookies? Join us in the Children's section of the library to help us solve this mystery. We'll be using chromatography to decode clues and search for the missing cookies like real detectives. There will be reading\, dancing\, and activities to take home to continue the gingerbread fun
X-ALT-DESC;FMTTYPE=text/html:Oh No! Some of our gingerbread men went missing! Who stole the cookies? Join us in the Children&#39\;s section of the library to help us solve this mystery. We&#39\;ll be using chromatography to decode clues and search for the missing cookies like real detectives. There will be reading\, dancing\, and activities to take home to continue the gingerbread fun
LOCATION:Great Bend Public Library
UID:e.2303.8186
SEQUENCE:3
DTSTAMP:20260425T235116Z
URL:https://members.greatbend.org/events/details/gingerbread-man-mystery-event-8186
END:VEVENT

END:VCALENDAR
