BEGIN:VCALENDAR
VERSION:2.0
PRODID:-//ChamberMaster//Event Calendar 2.0//EN
METHOD:PUBLISH
X-PUBLISHED-TTL:P3D
REFRESH-INTERVAL:P3D
CALSCALE:GREGORIAN
BEGIN:VEVENT
DTSTART:20240504T003000Z
DTEND:20240504T023000Z
X-MICROSOFT-CDO-ALLDAYEVENT:FALSE
SUMMARY:Golden Belt Community Concert - 7\,000 Miles to Broadway - J. Robert Spencer
DESCRIPTION:Music across genres and decades\, all leading to Broadway. J. Robert Spencer takes his audiences on the journey he took to achieve his goal of making it on Broadway. He grew up singing classic country\, rock and Broadway hits along with the car radio and 8-track tapes. This music helped pave his way to starring in "Jersey Boys" and "Next to Normal."
X-ALT-DESC;FMTTYPE=text/html:Music across genres and decades\, all leading to Broadway. J. Robert Spencer takes his audiences on the journey he took to achieve his goal of making it on Broadway. He grew up singing classic country\, rock and Broadway hits along with the car radio and 8-track tapes. This music helped pave his way to starring in &ldquo\;Jersey Boys&rdquo\; and &ldquo\;Next to Normal.&rdquo\;
LOCATION:Great Bend Municipal Auditorium\, Lakin & Stone.
UID:e.2303.11840
SEQUENCE:3
DTSTAMP:20260425T154808Z
URL:https://members.greatbend.org/events/details/golden-belt-community-concert-7-000-miles-to-broadway-j-robert-spencer-11840
END:VEVENT

END:VCALENDAR
