BEGIN:VCALENDAR
VERSION:2.0
PRODID:-//ChamberMaster//Event Calendar 2.0//EN
METHOD:PUBLISH
X-PUBLISHED-TTL:P3D
REFRESH-INTERVAL:P3D
CALSCALE:GREGORIAN
BEGIN:VEVENT
DTSTART:20230227T013000Z
DTEND:20230227T033000Z
X-MICROSOFT-CDO-ALLDAYEVENT:FALSE
SUMMARY:Golden Belt Community Concert\, The Patsy Cline Project
DESCRIPTION:Lisa Brokop's warm\, rich voice and accompanying band pay homage to one of country music's greatest ladies\, Patsy Cline.
X-ALT-DESC;FMTTYPE=text/html:Lisa Brokop&rsquo\;s warm\, rich voice and accompanying band pay homage to one of country music&rsquo\;s greatest ladies\, Patsy Cline.
LOCATION:Great Bend Municipal Auditorium\, Lakin and Stone
UID:e.2303.11627
SEQUENCE:3
DTSTAMP:20260424T214957Z
URL:https://members.greatbend.org/events/details/golden-belt-community-concert-the-patsy-cline-project-11627
END:VEVENT

END:VCALENDAR
