BEGIN:VCALENDAR
VERSION:2.0
PRODID:-//ChamberMaster//Event Calendar 2.0//EN
METHOD:PUBLISH
X-PUBLISHED-TTL:P3D
REFRESH-INTERVAL:P3D
CALSCALE:GREGORIAN
BEGIN:VEVENT
DTSTART;VALUE=DATE:20230204
DTEND;VALUE=DATE:20230205
TRANSP:TRANSPARENT
X-MICROSOFT-CDO-ALLDAYEVENT:TRUE
SUMMARY:Golden Belt Humane Society/Adoption event & fundraiser
DESCRIPTION:We will be having our monthly adoption event & fundraiser. We will be selling homemade soups & cinnamon rolls.
X-ALT-DESC;FMTTYPE=text/html:We will be having our monthly adoption event &amp\; fundraiser. We will be selling homemade soups &amp\; cinnamon rolls.
LOCATION:Orscheln's @ 5349 10th St in Great Bend
UID:e.2303.11619
SEQUENCE:3
DTSTAMP:20260424T215554Z
URL:https://members.greatbend.org/events/details/golden-belt-humane-society-adoption-event-fundraiser-11619
END:VEVENT

END:VCALENDAR
