BEGIN:VCALENDAR
VERSION:2.0
PRODID:-//ChamberMaster//Event Calendar 2.0//EN
METHOD:PUBLISH
X-PUBLISHED-TTL:P3D
REFRESH-INTERVAL:P3D
CALSCALE:GREGORIAN
BEGIN:VEVENT
DTSTART:20170624T130000Z
DTEND:20170624T190000Z
X-MICROSOFT-CDO-ALLDAYEVENT:FALSE
SUMMARY:Golden Belt Humane Society Garage Sale Fundraiser
DESCRIPTION:If you have items you would like to donate\, please drop them off at the shelter. NO clothing items or shoes\, please. Accepting items up until June 22. Hope to make this our biggest sale event ever. Thank you to everyone who donates items - and remember\, a tax receipt can be provided.\n\n\n\n******UPDATE UPDATE********\n\nWe will also be accepting donations for the Family Crisis Center here in Great Bend. New\, un-opened items of shampoo/conditioner\, body soaps\, coloring books and colors are needed for folks who temporarily stay with the Crisis Center. If you donate an item or items\, we will provide you a ticket so at the time of check out\, present the ticket and receive a percentage off your total garage sale purchase! How exciting this will be\, helping two organizations at once?!?! The more you purchase\, the higher a percentage will be taken off. Let's go shopping!!
X-ALT-DESC;FMTTYPE=text/html:<span style="color: rgb(13\, 6\, 0)\; font-family: Georgia\; font-size: 13.3333px\;">If you have items you would like to donate\, please drop them off at the shelter. NO clothing items or shoes\, please. Accepting items up until June 22. Hope to make this our biggest sale event ever. Thank you to everyone who donates items - and remember\, a tax receipt can be provided.</span><br style="color: rgb(13\, 6\, 0)\; font-family: Georgia\; font-size: 13.3333px\;" />\n<br style="color: rgb(13\, 6\, 0)\; font-family: Georgia\; font-size: 13.3333px\;" />\n<span style="color: rgb(13\, 6\, 0)\; font-family: Georgia\; font-size: 13.3333px\;">******UPDATE UPDATE********</span><br style="color: rgb(13\, 6\, 0)\; font-family: Georgia\; font-size: 13.3333px\;" />\n<span style="color: rgb(13\, 6\, 0)\; font-family: Georgia\; font-size: 13.3333px\;">We will also be accepting donations for the Family Crisis Center here in Great Bend. New\, un-opened items of shampoo/conditioner\, body soaps\, coloring books and colors are needed for folks who temporarily stay with the Crisis Center. If you donate an item or items\, we will provide you a ticket so at the time of check out\, present the ticket and receive a percentage off your total garage sale purchase! How exciting this will be\, helping two organizations at once?!?! The more you purchase\, the higher a percentage will be taken off. Let&#39\;s go shopping!!</span>
LOCATION:Golden Belt Humane Society 151 S US Hwy 281
UID:e.2303.1813
SEQUENCE:3
DTSTAMP:20260422T185642Z
URL:https://members.greatbend.org/events/details/golden-belt-humane-society-garage-sale-fundraiser-1813
END:VEVENT

END:VCALENDAR
