BEGIN:VCALENDAR
VERSION:2.0
PRODID:-//ChamberMaster//Event Calendar 2.0//EN
METHOD:PUBLISH
X-PUBLISHED-TTL:P3D
REFRESH-INTERVAL:P3D
CALSCALE:GREGORIAN
BEGIN:VEVENT
DTSTART:20170623T000000Z
DTEND:20170623T020000Z
X-MICROSOFT-CDO-ALLDAYEVENT:FALSE
SUMMARY:Great Bend Bat Cats Baseball - Home Game
DESCRIPTION:Join the Great Bend Bat Cats at their home game tonight! FREE admission!\n\n\n\nThe Great Bend Bat Cats\, a member of the the Jayhawk League is summer collegiate baseball at its best! It is one of the most competitive leagues in the nation. The Jayhawk League has teams in two Midwestern states in the heartland of America\, Kansas and Oklahoma. The eight-member league has an automatic berth in the National Baseball Congress World Series in Wichita\, Kansas. The Jayhawk League is a wood bat league and plays according to American League rules. Dozens of current major league stars played in the Jayhawk League on their way to the majors. Some of the Jayhawk League Alumni who have become prominent major league stars are Albert Pujols\, Lance Berkman\, Roger Clemens\, Barry Bonds\, Andy Benes\, Trevor Hoffman\, and Chuck Knoblauch. Jayhawk League teams continue to dominate the NBC World Series with three Championships and many top finishes the past 10 years. The Jayhawk League is recognized as a premier league in the National Baseball Congress.\n\n\n\nMembers of the Jayhawk League include: Derby Twins\, Dodge City A's\, El Dorado Broncos\, Great Bend Bat Cats\, Hays Larks\, Haysville Aviators\, Liberal BeeJays\, and OKC Indians.
X-ALT-DESC;FMTTYPE=text/html:<span style="color: rgb(13\, 6\, 0)\; font-family: Georgia\; font-size: 13.3333px\;">Join the Great Bend Bat Cats at their home game tonight! FREE admission!</span><br style="color: rgb(13\, 6\, 0)\; font-family: Georgia\; font-size: 13.3333px\;" />\n<br style="color: rgb(13\, 6\, 0)\; font-family: Georgia\; font-size: 13.3333px\;" />\n<span style="color: rgb(13\, 6\, 0)\; font-family: Georgia\; font-size: 13.3333px\;">The Great Bend Bat Cats\, a member of the the Jayhawk League is summer collegiate baseball at its best! It is one of the most competitive leagues in the nation. The Jayhawk League has teams in two Midwestern states in the heartland of America\, Kansas and Oklahoma. The eight-member league has an automatic berth in the National Baseball Congress World Series in Wichita\, Kansas. The Jayhawk League is a wood bat league and plays according to American League rules. Dozens of current major league stars played in the Jayhawk League on their way to the majors. Some of the Jayhawk League Alumni who have become prominent major league stars are Albert Pujols\, Lance Berkman\, Roger Clemens\, Barry Bonds\, Andy Benes\, Trevor Hoffman\, and Chuck Knoblauch. Jayhawk League teams continue to dominate the NBC World Series with three Championships and many top finishes the past 10 years. The Jayhawk League is recognized as a premier league in the National Baseball Congress.</span><br style="color: rgb(13\, 6\, 0)\; font-family: Georgia\; font-size: 13.3333px\;" />\n<br style="color: rgb(13\, 6\, 0)\; font-family: Georgia\; font-size: 13.3333px\;" />\n<span style="color: rgb(13\, 6\, 0)\; font-family: Georgia\; font-size: 13.3333px\;">Members of the Jayhawk League include: Derby Twins\, Dodge City A&#39\;s\, El Dorado Broncos\, Great Bend Bat Cats\, Hays Larks\, Haysville Aviators\, Liberal BeeJays\, and OKC Indians.</span>
LOCATION:Al Burns Field Vet's Park West 17th Terrace Great Bend\, KS 67530
UID:e.2303.1810
SEQUENCE:3
DTSTAMP:20260422T184633Z
URL:https://members.greatbend.org/events/details/great-bend-bat-cats-baseball-home-game-1810
END:VEVENT

END:VCALENDAR
