BEGIN:VCALENDAR
VERSION:2.0
PRODID:-//ChamberMaster//Event Calendar 2.0//EN
METHOD:PUBLISH
X-PUBLISHED-TTL:P3D
REFRESH-INTERVAL:P3D
CALSCALE:GREGORIAN
BEGIN:VEVENT
DTSTART:20200205T180000Z
DTEND:20200205T190000Z
X-MICROSOFT-CDO-ALLDAYEVENT:FALSE
SUMMARY:Great Bend Better Lunch N Learn
DESCRIPTION:The Great Bend   Better that Great Community Vision Plan was released in November 2019 and is a roadmap for the community for the next 20 years. We invite you to join us for a presentation in which we highlight the goals and strategies that different sub-committees will be working on from the vision plan. You can also learn how you can get involved in one of these action teams to help our community now! We hope you'll join us for this informative and exciting Stop N Learn.
X-ALT-DESC;FMTTYPE=text/html:The Great Bend &ndash\; Better that Great Community Vision Plan was released in November 2019 and is a roadmap for the community for the next 20 years. We invite you to join us for a presentation in which we highlight the goals and strategies that different sub-committees will be working on from the vision plan. You can also learn how you can get involved in one of these action teams to help our community now! We hope you&rsquo\;ll join us for this informative and exciting Stop N Learn.
LOCATION:Great Bend Rec Activity Center
UID:e.2303.7586
SEQUENCE:3
DTSTAMP:20260419T223804Z
URL:https://members.greatbend.org/events/details/great-bend-better-lunch-n-learn-7586
END:VEVENT

END:VCALENDAR
