BEGIN:VCALENDAR
VERSION:2.0
PRODID:-//ChamberMaster//Event Calendar 2.0//EN
METHOD:PUBLISH
X-PUBLISHED-TTL:P3D
REFRESH-INTERVAL:P3D
CALSCALE:GREGORIAN
BEGIN:VEVENT
DTSTART;VALUE=DATE:20171219
DTEND;VALUE=DATE:20171220
TRANSP:TRANSPARENT
X-MICROSOFT-CDO-ALLDAYEVENT:TRUE
SUMMARY:Great Bend Chamber of Commerce Member Appreciation Week
DESCRIPTION:Come say hello and enjoy our hot cocoa bar & refreshments all day! Sign up for Free Career Headshots taking place Tuesday morning at Images by Emily. RSVP required. Membership Overview at 3pm Enter your name to win a chamber gift certificate!
X-ALT-DESC;FMTTYPE=text/html:Come say hello and enjoy our hot cocoa bar &amp\; refreshments all day! Sign up for Free Career Headshots taking place Tuesday morning at Images by Emily. RSVP required. Membership Overview at 3pm Enter your name to win a chamber gift certificate!
LOCATION:1125 Williams St. Great Bend
UID:e.2303.3580
SEQUENCE:3
DTSTAMP:20260420T110237Z
URL:https://members.greatbend.org/events/details/great-bend-chamber-of-commerce-member-appreciation-week-12-19-2017-3580
END:VEVENT

END:VCALENDAR
