BEGIN:VCALENDAR
VERSION:2.0
PRODID:-//ChamberMaster//Event Calendar 2.0//EN
METHOD:PUBLISH
X-PUBLISHED-TTL:P3D
REFRESH-INTERVAL:P3D
CALSCALE:GREGORIAN
BEGIN:VEVENT
DTSTART:20170616T011500Z
DTEND:20170616T031500Z
X-MICROSOFT-CDO-ALLDAYEVENT:FALSE
SUMMARY:Great Bend City Band 2017 Summer Concert Schedule
DESCRIPTION:The Great Bend City Band announces their Summer 2017 schedule.\n\n\n\nAll concerts this year will be held at the courthouse square band shell at 8:15pm.\n\n\n\nConcert dates are on the following Thursdays: June 1st\, 8th\, 15th\, 22nd & 29th. \n\n\n\nA special jazz band concert will also be held at 8:15pm at the band shell on June 30th.\n\n\n\nJuly concerts will be July 4th\, 13th & 18th.\n\n\n\nIn case of inclement weather\, the outdoor concert for that evening will be cancelled by 7:15pm.\n\n\n\nThe June 1st concert will be a special dedication concert and the July 4th concert will be patriotic concert.\n\n\n\nMore information may be obtained about the band by contacting the director of the city band\, Steven Lueth at 620-935-4330.
X-ALT-DESC;FMTTYPE=text/html:<span style="color: rgb(13\, 6\, 0)\; font-family: Georgia\; font-size: 13.3333px\;">The Great Bend City Band announces their Summer 2017 schedule.</span><br style="color: rgb(13\, 6\, 0)\; font-family: Georgia\; font-size: 13.3333px\;" />\n<br style="color: rgb(13\, 6\, 0)\; font-family: Georgia\; font-size: 13.3333px\;" />\n<span style="color: rgb(13\, 6\, 0)\; font-family: Georgia\; font-size: 13.3333px\;">All concerts this year will be held at the courthouse square band shell at 8:15pm.</span><br style="color: rgb(13\, 6\, 0)\; font-family: Georgia\; font-size: 13.3333px\;" />\n<br style="color: rgb(13\, 6\, 0)\; font-family: Georgia\; font-size: 13.3333px\;" />\n<span style="color: rgb(13\, 6\, 0)\; font-family: Georgia\; font-size: 13.3333px\;">Concert dates are on the following Thursdays: June 1st\, 8th\, 15th\, 22nd &amp\; 29th.&nbsp\;</span><br style="color: rgb(13\, 6\, 0)\; font-family: Georgia\; font-size: 13.3333px\;" />\n<br style="color: rgb(13\, 6\, 0)\; font-family: Georgia\; font-size: 13.3333px\;" />\n<span style="color: rgb(13\, 6\, 0)\; font-family: Georgia\; font-size: 13.3333px\;">A special jazz band concert will also be held at 8:15pm at the band shell on June 30th.</span><br style="color: rgb(13\, 6\, 0)\; font-family: Georgia\; font-size: 13.3333px\;" />\n<br style="color: rgb(13\, 6\, 0)\; font-family: Georgia\; font-size: 13.3333px\;" />\n<span style="color: rgb(13\, 6\, 0)\; font-family: Georgia\; font-size: 13.3333px\;">July concerts will be July 4th\, 13th &amp\; 18th.</span><br style="color: rgb(13\, 6\, 0)\; font-family: Georgia\; font-size: 13.3333px\;" />\n<br style="color: rgb(13\, 6\, 0)\; font-family: Georgia\; font-size: 13.3333px\;" />\n<span style="color: rgb(13\, 6\, 0)\; font-family: Georgia\; font-size: 13.3333px\;">In case of inclement weather\, the outdoor concert for that evening will be cancelled by 7:15pm.</span><br style="color: rgb(13\, 6\, 0)\; font-family: Georgia\; font-size: 13.3333px\;" />\n<br style="color: rgb(13\, 6\, 0)\; font-family: Georgia\; font-size: 13.3333px\;" />\n<span style="color: rgb(13\, 6\, 0)\; font-family: Georgia\; font-size: 13.3333px\;">The June 1st concert will be a special dedication concert and the July 4th concert will be patriotic concert.</span><br style="color: rgb(13\, 6\, 0)\; font-family: Georgia\; font-size: 13.3333px\;" />\n<br style="color: rgb(13\, 6\, 0)\; font-family: Georgia\; font-size: 13.3333px\;" />\n<span style="color: rgb(13\, 6\, 0)\; font-family: Georgia\; font-size: 13.3333px\;">More information may be obtained about the band by contacting the director of the city band\, Steven Lueth at 620-935-4330.</span>
LOCATION:
UID:e.2303.1754
SEQUENCE:3
DTSTAMP:20260422T172950Z
URL:https://members.greatbend.org/events/details/great-bend-city-band-2017-summer-concert-schedule-1754
END:VEVENT

END:VCALENDAR
