BEGIN:VCALENDAR
VERSION:2.0
PRODID:-//ChamberMaster//Event Calendar 2.0//EN
METHOD:PUBLISH
X-PUBLISHED-TTL:P3D
REFRESH-INTERVAL:P3D
CALSCALE:GREGORIAN
BEGIN:VEVENT
DTSTART:20240607T011500Z
DTEND:20240607T021500Z
X-MICROSOFT-CDO-ALLDAYEVENT:FALSE
SUMMARY:Great Bend City Band Concert
DESCRIPTION:Enjoy the local Great Bend City Band Concert at the band shell in Jack Kilby Square!
X-ALT-DESC;FMTTYPE=text/html:<span style="font-size:22px\;">Enjoy the local Great Bend City Band Concert at the band shell in Jack Kilby Square!&nbsp\;</span>
LOCATION:
UID:e.2303.13385
SEQUENCE:3
DTSTAMP:20260425T221156Z
URL:https://members.greatbend.org/events/details/great-bend-city-band-concert-06-06-2024-13385
END:VEVENT

END:VCALENDAR
