BEGIN:VCALENDAR
VERSION:2.0
PRODID:-//ChamberMaster//Event Calendar 2.0//EN
METHOD:PUBLISH
X-PUBLISHED-TTL:P3D
REFRESH-INTERVAL:P3D
CALSCALE:GREGORIAN
BEGIN:VEVENT
DTSTART:20170810T170000Z
DTEND:20170810T230000Z
X-MICROSOFT-CDO-ALLDAYEVENT:FALSE
SUMMARY:Great Bend Community Bloodmobile - Walmart Supercenter
DESCRIPTION:American Red Cross Bloodmobile. We are currently in Emergency Need
X-ALT-DESC;FMTTYPE=text/html:<span style="color: rgb(13\, 6\, 0)\; font-family: Georgia\; font-size: 13.3333px\;">American Red Cross Bloodmobile. We are currently in Emergency Need</span>
LOCATION:Walmart Supercenter Parking Lot 1222 Kansas Ave Great Bend\, KS 67530
UID:e.2303.3026
SEQUENCE:3
DTSTAMP:20260422T155651Z
URL:https://members.greatbend.org/events/details/great-bend-community-bloodmobile-walmart-supercenter-3026
END:VEVENT

END:VCALENDAR
