BEGIN:VCALENDAR
VERSION:2.0
PRODID:-//ChamberMaster//Event Calendar 2.0//EN
METHOD:PUBLISH
X-PUBLISHED-TTL:P3D
REFRESH-INTERVAL:P3D
CALSCALE:GREGORIAN
BEGIN:VEVENT
DTSTART:20170429T003000Z
DTEND:20170429T023000Z
X-MICROSOFT-CDO-ALLDAYEVENT:FALSE
SUMMARY:Great Bend Community Theatre
DESCRIPTION:Our next show "Exit Laughing" will be April 27-29 at 7:30 pm and April 30th at 2:00 pm. Tickets $12. \n\n\n\nWe will have a special wine night prior to the April 29th performance from 6-7pm tickets $10\n\n\n\n"Exit Laughing"\n\nWhen the biggiest highlight in your life for the past 30 years has been your weekly bridge night out with the girls\, what do you do when one of your foursome inconveniently dies? If you are Connie\, Leona\,and Millie\, three southern ladies from Birmingham\, you plan the most exciting night of your lives which involves a police raid\, a stripper\, and a whole new way of looking at all the fun you can have when you are truly living.
X-ALT-DESC;FMTTYPE=text/html:<span style="color: rgb(13\, 6\, 0)\; font-family: Georgia\; font-size: 13.3333px\;">Our next show &quot\;Exit Laughing&quot\; will be April 27-29 at 7:30 pm and April 30th at 2:00 pm. Tickets $12.&nbsp\;</span><br style="color: rgb(13\, 6\, 0)\; font-family: Georgia\; font-size: 13.3333px\;" />\n<br style="color: rgb(13\, 6\, 0)\; font-family: Georgia\; font-size: 13.3333px\;" />\n<span style="color: rgb(13\, 6\, 0)\; font-family: Georgia\; font-size: 13.3333px\;">We will have a special wine night prior to the April 29th performance from 6-7pm tickets $10</span><br style="color: rgb(13\, 6\, 0)\; font-family: Georgia\; font-size: 13.3333px\;" />\n<br style="color: rgb(13\, 6\, 0)\; font-family: Georgia\; font-size: 13.3333px\;" />\n<span style="color: rgb(13\, 6\, 0)\; font-family: Georgia\; font-size: 13.3333px\;">&quot\;Exit Laughing&quot\;</span><br style="color: rgb(13\, 6\, 0)\; font-family: Georgia\; font-size: 13.3333px\;" />\n<span style="color: rgb(13\, 6\, 0)\; font-family: Georgia\; font-size: 13.3333px\;">When the biggiest highlight in your life for the past 30 years has been your weekly bridge night out with the girls\, what do you do when one of your foursome inconveniently dies? If you are Connie\, Leona\,and Millie\, three southern ladies from Birmingham\, you plan the most exciting night of your lives which involves a police raid\, a stripper\, and a whole new way of looking at all the fun you can have when you are truly living.</span>
LOCATION:Crest Theatre 1905 Lakin Great Bend
UID:e.2303.1222
SEQUENCE:3
DTSTAMP:20260422T221015Z
URL:https://members.greatbend.org/events/details/great-bend-community-theatre-1222
END:VEVENT

END:VCALENDAR
