BEGIN:VCALENDAR
VERSION:2.0
PRODID:-//ChamberMaster//Event Calendar 2.0//EN
METHOD:PUBLISH
X-PUBLISHED-TTL:P3D
REFRESH-INTERVAL:P3D
CALSCALE:GREGORIAN
BEGIN:VEVENT
DTSTART:20170430T190000Z
DTEND:20170430T210000Z
X-MICROSOFT-CDO-ALLDAYEVENT:FALSE
SUMMARY:Great Bend Community Theatre
DESCRIPTION:Our next show "Exit Laughing" April 30th at 2:00 pm. Tickets $12. \n\n\n\n"Exit Laughing"\n\nWhen the biggiest highlight in your life for the past 30 years has been your weekly bridge night out with the girls\, what do you do when one of your foursome inconveniently dies? If you are Connie\, Leona\,and Millie\, three southern ladies from Birmingham\, you plan the most exciting night of your lives which involves a police raid\, a stripper\, and a whole new way of looking at all the fun you can have when you are truly living.
X-ALT-DESC;FMTTYPE=text/html:<span style="color: rgb(13\, 6\, 0)\; font-family: Georgia\; font-size: 13.3333px\;">Our next show &quot\;Exit Laughing&quot\; April 30th at 2:00 pm. Tickets $12.&nbsp\;</span><br style="color: rgb(13\, 6\, 0)\; font-family: Georgia\; font-size: 13.3333px\;" />\n<br style="color: rgb(13\, 6\, 0)\; font-family: Georgia\; font-size: 13.3333px\;" />\n<span style="color: rgb(13\, 6\, 0)\; font-family: Georgia\; font-size: 13.3333px\;">&quot\;Exit Laughing&quot\;</span><br style="color: rgb(13\, 6\, 0)\; font-family: Georgia\; font-size: 13.3333px\;" />\n<span style="color: rgb(13\, 6\, 0)\; font-family: Georgia\; font-size: 13.3333px\;">When the biggiest highlight in your life for the past 30 years has been your weekly bridge night out with the girls\, what do you do when one of your foursome inconveniently dies? If you are Connie\, Leona\,and Millie\, three southern ladies from Birmingham\, you plan the most exciting night of your lives which involves a police raid\, a stripper\, and a whole new way of looking at all the fun you can have when you are truly living.</span>
LOCATION:Crest Theatre 1905 Lakin Great Bend
UID:e.2303.1231
SEQUENCE:3
DTSTAMP:20260422T220812Z
URL:https://members.greatbend.org/events/details/great-bend-community-theatre-1231
END:VEVENT

END:VCALENDAR
