BEGIN:VCALENDAR
VERSION:2.0
PRODID:-//ChamberMaster//Event Calendar 2.0//EN
METHOD:PUBLISH
X-PUBLISHED-TTL:P3D
REFRESH-INTERVAL:P3D
CALSCALE:GREGORIAN
BEGIN:VEVENT
DTSTART:20170429T230000Z
DTEND:20170430T003000Z
X-MICROSOFT-CDO-ALLDAYEVENT:FALSE
SUMMARY:Great Bend Community Theatre - Wine Night
DESCRIPTION:We will have a special wine night prior to the April 29th performance from 6-7pm tickets $10
X-ALT-DESC;FMTTYPE=text/html:<span style="color: rgb(13\, 6\, 0)\; font-family: Georgia\; font-size: 13.3333px\;">We will have a special wine night prior to the April 29th performance from 6-7pm tickets $10</span>
LOCATION:Crest Theatre 1905 Lakin Great Bend
UID:e.2303.1230
SEQUENCE:3
DTSTAMP:20260422T221754Z
URL:https://members.greatbend.org/events/details/great-bend-community-theatre-wine-night-1230
END:VEVENT

END:VCALENDAR
