BEGIN:VCALENDAR
VERSION:2.0
PRODID:-//ChamberMaster//Event Calendar 2.0//EN
METHOD:PUBLISH
X-PUBLISHED-TTL:P3D
REFRESH-INTERVAL:P3D
CALSCALE:GREGORIAN
BEGIN:VEVENT
DTSTART:20230216T223000Z
DTEND:20230217T010000Z
X-MICROSOFT-CDO-ALLDAYEVENT:FALSE
SUMMARY:Great Bend Evening Lions Club
DESCRIPTION:Evening Lions Club: 2023 12th Annual Ham & Bean Dinner\n\nDine in or Carry out\n\nNet proceeds used for area projects \n\n(please bring old eye glasses\, cell phones\, and hearing aids) \n\n(Specials on all broom display)
X-ALT-DESC;FMTTYPE=text/html:Evening Lions Club: 2023 12th Annual Ham &amp\; Bean Dinner<br />\nDine in or Carry out<br />\nNet proceeds used for area projects&nbsp\;<br />\n(please bring old eye glasses\, cell phones\, and hearing aids)&nbsp\;<br />\n(Specials on all broom display)<br />\n<br />\n&nbsp\;
LOCATION:723 South Main St.\, Knights of Columbus
UID:e.2303.11629
SEQUENCE:3
DTSTAMP:20260424T214652Z
URL:https://members.greatbend.org/events/details/great-bend-evening-lions-club-11629
END:VEVENT

END:VCALENDAR
