BEGIN:VCALENDAR
VERSION:2.0
PRODID:-//ChamberMaster//Event Calendar 2.0//EN
METHOD:PUBLISH
X-PUBLISHED-TTL:P3D
REFRESH-INTERVAL:P3D
CALSCALE:GREGORIAN
BEGIN:VEVENT
DTSTART:20220217T223000Z
DTEND:20220218T010000Z
X-MICROSOFT-CDO-ALLDAYEVENT:FALSE
SUMMARY:Great Bend Evening Lions Club Ham & Bean Dinner
DESCRIPTION:Ham & Bean Dinner\n\nThursday\, February 17th\, 4:30 to 7 pm\n\nColumbus Club at 723 South Main Street\n\n- Ham and Beans\n\n- Cornbread\n\n- Dessert\n\n- Drinks\n\n$7\n\nFundraiser by Great Bend Evening Lions\, a new chamber member!\n\nProfits support local\, state\, and national help for visually impaired\, local Food Bank\, Boy Scouts\, United Way\, schools\, etc.
X-ALT-DESC;FMTTYPE=text/html:<div style="color: rgb(34\, 34\, 34)\; font-family: Arial\, Helvetica\, sans-serif\; font-size: small\; background-color: rgb(255\, 255\, 255)\;">Ham &amp\; Bean Dinner</div>\n\n<div style="color: rgb(34\, 34\, 34)\; font-family: Arial\, Helvetica\, sans-serif\; font-size: small\; background-color: rgb(255\, 255\, 255)\;">Thursday\, February 17th\, 4:30 to 7 pm</div>\n\n<div style="color: rgb(34\, 34\, 34)\; font-family: Arial\, Helvetica\, sans-serif\; font-size: small\; background-color: rgb(255\, 255\, 255)\;">Columbus Club at 723 South Main Street</div>\n\n<div style="color: rgb(34\, 34\, 34)\; font-family: Arial\, Helvetica\, sans-serif\; font-size: small\; background-color: rgb(255\, 255\, 255)\;">- Ham and Beans</div>\n\n<div style="color: rgb(34\, 34\, 34)\; font-family: Arial\, Helvetica\, sans-serif\; font-size: small\; background-color: rgb(255\, 255\, 255)\;">- Cornbread</div>\n\n<div style="color: rgb(34\, 34\, 34)\; font-family: Arial\, Helvetica\, sans-serif\; font-size: small\; background-color: rgb(255\, 255\, 255)\;">- Dessert</div>\n\n<div style="color: rgb(34\, 34\, 34)\; font-family: Arial\, Helvetica\, sans-serif\; font-size: small\; background-color: rgb(255\, 255\, 255)\;">- Drinks</div>\n\n<div style="color: rgb(34\, 34\, 34)\; font-family: Arial\, Helvetica\, sans-serif\; font-size: small\; background-color: rgb(255\, 255\, 255)\;">$7</div>\n\n<div style="color: rgb(34\, 34\, 34)\; font-family: Arial\, Helvetica\, sans-serif\; font-size: small\; background-color: rgb(255\, 255\, 255)\;">Fundraiser by Great Bend Evening Lions\, a new chamber member!</div>\n\n<div style="color: rgb(34\, 34\, 34)\; font-family: Arial\, Helvetica\, sans-serif\; font-size: small\; background-color: rgb(255\, 255\, 255)\;">Profits support local\, state\, and national help for visually impaired\, local Food Bank\, Boy Scouts\, United Way\, schools\, etc.</div>\n
LOCATION:Columbus Club at 723 South Main Street
UID:e.2303.9112
SEQUENCE:3
DTSTAMP:20260421T233923Z
URL:https://members.greatbend.org/events/details/great-bend-evening-lions-club-ham-bean-dinner-9112
END:VEVENT

END:VCALENDAR
