BEGIN:VCALENDAR
VERSION:2.0
PRODID:-//ChamberMaster//Event Calendar 2.0//EN
METHOD:PUBLISH
X-PUBLISHED-TTL:P3D
REFRESH-INTERVAL:P3D
CALSCALE:GREGORIAN
BEGIN:VEVENT
DTSTART;VALUE=DATE:20170405
DTEND;VALUE=DATE:20170408
TRANSP:TRANSPARENT
X-MICROSOFT-CDO-ALLDAYEVENT:TRUE
SUMMARY:Great Bend Farm & Ranch Expo
DESCRIPTION:The 2017 Great Bend Farm and Ranch Expo is all about promoting agricultural technology! With more than 700 inside and outside booths covering 80 acres. This is one of the largest farm shows in the United States. Show hours are 9:00am to 5:00pm on April 5\; 9:00am to 7:00pm on April 6\; and 9:00am to 4:00pm on April 7. The Expo stays open until 7:00pm on Thursday to better accommodate the consumer population that works during the day. Corporate sponsors are KSN\, Great Bend Co-op and the American Hat Company Inc. Parking and admission are FREE!\n\n\n\nDate - Apr 05\, 2017 \n\nTime - Between 09:00 AM and 05:00 PM \n\nType - Chamber Event \n\nCommunity - Great Bend \n\nLocation - Great Bend Expo Complex \n\nContact - Darren Dale\, Owner\n\nStar Enterprises TD LLC\n\n2370 State Hwy 161\n\nBird City\, KS 67731\n\n(866) 685-0989 \n\nEmail - dales@greatbendfarmandranchexpo.net \n\nWebsite - http://www.starexpos.net/
X-ALT-DESC;FMTTYPE=text/html:<span style="color: rgb(13\, 6\, 0)\; font-family: Georgia\; font-size: 13.3333px\;">The 2017 Great Bend Farm and Ranch Expo is all about promoting agricultural technology! With more than 700 inside and outside booths covering 80 acres. This is one of the largest farm shows in the United States. Show hours are 9:00am to 5:00pm on April 5\; 9:00am to 7:00pm on April 6\; and 9:00am to 4:00pm on April 7. The Expo stays open until 7:00pm on Thursday to better accommodate the consumer population that works during the day. Corporate sponsors are KSN\, Great Bend Co-op and the American Hat Company Inc. Parking and admission are FREE!</span><br style="color: rgb(13\, 6\, 0)\; font-family: Georgia\; font-size: 13.3333px\;" />\n<br style="color: rgb(13\, 6\, 0)\; font-family: Georgia\; font-size: 13.3333px\;" />\n<span style="color: rgb(13\, 6\, 0)\; font-family: Georgia\; font-size: 13.3333px\;">Date - Apr 05\, 2017&nbsp\;</span><br style="color: rgb(13\, 6\, 0)\; font-family: Georgia\; font-size: 13.3333px\;" />\n<span style="color: rgb(13\, 6\, 0)\; font-family: Georgia\; font-size: 13.3333px\;">Time - Between 09:00 AM and 05:00 PM&nbsp\;</span><br style="color: rgb(13\, 6\, 0)\; font-family: Georgia\; font-size: 13.3333px\;" />\n<span style="color: rgb(13\, 6\, 0)\; font-family: Georgia\; font-size: 13.3333px\;">Type - Chamber Event&nbsp\;</span><br style="color: rgb(13\, 6\, 0)\; font-family: Georgia\; font-size: 13.3333px\;" />\n<span style="color: rgb(13\, 6\, 0)\; font-family: Georgia\; font-size: 13.3333px\;">Community - Great Bend&nbsp\;</span><br style="color: rgb(13\, 6\, 0)\; font-family: Georgia\; font-size: 13.3333px\;" />\n<span style="color: rgb(13\, 6\, 0)\; font-family: Georgia\; font-size: 13.3333px\;">Location - Great Bend Expo Complex&nbsp\;</span><br style="color: rgb(13\, 6\, 0)\; font-family: Georgia\; font-size: 13.3333px\;" />\n<span style="color: rgb(13\, 6\, 0)\; font-family: Georgia\; font-size: 13.3333px\;">Contact - Darren Dale\, Owner</span><br style="color: rgb(13\, 6\, 0)\; font-family: Georgia\; font-size: 13.3333px\;" />\n<span style="color: rgb(13\, 6\, 0)\; font-family: Georgia\; font-size: 13.3333px\;">Star Enterprises TD LLC</span><br style="color: rgb(13\, 6\, 0)\; font-family: Georgia\; font-size: 13.3333px\;" />\n<span style="color: rgb(13\, 6\, 0)\; font-family: Georgia\; font-size: 13.3333px\;">2370 State Hwy 161</span><br style="color: rgb(13\, 6\, 0)\; font-family: Georgia\; font-size: 13.3333px\;" />\n<span style="color: rgb(13\, 6\, 0)\; font-family: Georgia\; font-size: 13.3333px\;">Bird City\, KS 67731</span><br style="color: rgb(13\, 6\, 0)\; font-family: Georgia\; font-size: 13.3333px\;" />\n<span style="color: rgb(13\, 6\, 0)\; font-family: Georgia\; font-size: 13.3333px\;">(866) 685-0989&nbsp\;</span><br style="color: rgb(13\, 6\, 0)\; font-family: Georgia\; font-size: 13.3333px\;" />\n<span style="color: rgb(13\, 6\, 0)\; font-family: Georgia\; font-size: 13.3333px\;">Email -&nbsp\;</span><a href="mailto:dales@greatbendfarmandranchexpo.net" style="font-family: Georgia\; font-size: 13.3333px\;">dales@greatbendfarmandranchexpo.net</a><span style="color: rgb(13\, 6\, 0)\; font-family: Georgia\; font-size: 13.3333px\;">&nbsp\;</span><br style="color: rgb(13\, 6\, 0)\; font-family: Georgia\; font-size: 13.3333px\;" />\n<span style="color: rgb(13\, 6\, 0)\; font-family: Georgia\; font-size: 13.3333px\;">Website -&nbsp\;</span><a href="http://http//www.starexpos.net/" style="font-family: Georgia\; font-size: 13.3333px\;" target="_blank">http://www.starexpos.net/</a>
LOCATION:
UID:e.2303.1730
SEQUENCE:3
DTSTAMP:20260422T220934Z
URL:https://members.greatbend.org/events/details/great-bend-farm-ranch-expo-1730
END:VEVENT

END:VCALENDAR
