BEGIN:VCALENDAR
VERSION:2.0
PRODID:-//ChamberMaster//Event Calendar 2.0//EN
METHOD:PUBLISH
X-PUBLISHED-TTL:P3D
REFRESH-INTERVAL:P3D
CALSCALE:GREGORIAN
BEGIN:VEVENT
DTSTART:20240512T220000Z
DTEND:20240513T000000Z
X-MICROSOFT-CDO-ALLDAYEVENT:FALSE
SUMMARY:Great Bend High School Graduation
DESCRIPTION:
X-ALT-DESC;FMTTYPE=text/html:
LOCATION:GBHS Memorial Stadium\, weather permitting
UID:e.2303.13046
SEQUENCE:3
DTSTAMP:20260425T154553Z
URL:https://members.greatbend.org/events/details/great-bend-high-school-graduation-05-12-2024-13046
END:VEVENT

END:VCALENDAR
