BEGIN:VCALENDAR
VERSION:2.0
PRODID:-//ChamberMaster//Event Calendar 2.0//EN
METHOD:PUBLISH
X-PUBLISHED-TTL:P3D
REFRESH-INTERVAL:P3D
CALSCALE:GREGORIAN
BEGIN:VEVENT
DTSTART:20200215T000000Z
DTEND:20200215T030000Z
X-MICROSOFT-CDO-ALLDAYEVENT:FALSE
SUMMARY:Great Bend High School - Winter Homecoming
DESCRIPTION:Great Bend High School's Winter Homecoming will be held on Friday\, February 14. The Great Bend High School Varsity Basketball teams Garden City. Highlighted events for the day are as follows. -  6:00 p.m. - Varsity Girls Basketball Game -  7:15 p.m. (approx.)   Homecoming Crowning Ceremony\, GBHS Gymnasium -  7:30 p.m.   Varsity Boys Basketball Game Questions can be directed to the Great Bend High School Activities Office at 620-793-1560
X-ALT-DESC;FMTTYPE=text/html:Great Bend High School&rsquo\;s Winter Homecoming will be held on Friday\, February 14. The Great Bend High School Varsity Basketball teams Garden City. Highlighted events for the day are as follows. -&gt\; 6:00 p.m. - Varsity Girls Basketball Game -&gt\; 7:15 p.m. (approx.) &ndash\; Homecoming Crowning Ceremony\, GBHS Gymnasium -&gt\; 7:30 p.m. &ndash\; Varsity Boys Basketball Game Questions can be directed to the Great Bend High School Activities Office at 620-793-1560
LOCATION:Great Bend High School\, 2027 Morton St
UID:e.2303.7627
SEQUENCE:3
DTSTAMP:20260420T002529Z
URL:https://members.greatbend.org/events/details/great-bend-high-school-winter-homecoming-7627
END:VEVENT

END:VCALENDAR
