BEGIN:VCALENDAR
VERSION:2.0
PRODID:-//ChamberMaster//Event Calendar 2.0//EN
METHOD:PUBLISH
X-PUBLISHED-TTL:P3D
REFRESH-INTERVAL:P3D
CALSCALE:GREGORIAN
BEGIN:VEVENT
DTSTART;VALUE=DATE:20170826
DTEND;VALUE=DATE:20170828
TRANSP:TRANSPARENT
X-MICROSOFT-CDO-ALLDAYEVENT:TRUE
SUMMARY:Great Bend Saddle Club Flea Market & Craft Fair
DESCRIPTION:Do you sell Scentsy or make your own crafts? Or do you have something to sell? Well we have an event for you!!\n\n\n\nGreat Bend Saddle Club will be hosting a flea market and craft fair!\n\n\n\nVendors: Call to reserve your booth\n\n$30 non electric\, $35 with electric
X-ALT-DESC;FMTTYPE=text/html:<span style="color: rgb(13\, 6\, 0)\; font-family: Georgia\; font-size: 13.3333px\;">Do you sell Scentsy or make your own crafts? Or do you have something to sell? Well we have an event for you!!</span><br style="color: rgb(13\, 6\, 0)\; font-family: Georgia\; font-size: 13.3333px\;" />\n<br style="color: rgb(13\, 6\, 0)\; font-family: Georgia\; font-size: 13.3333px\;" />\n<span style="color: rgb(13\, 6\, 0)\; font-family: Georgia\; font-size: 13.3333px\;">Great Bend Saddle Club will be hosting a flea market and craft fair!</span><br style="color: rgb(13\, 6\, 0)\; font-family: Georgia\; font-size: 13.3333px\;" />\n<br style="color: rgb(13\, 6\, 0)\; font-family: Georgia\; font-size: 13.3333px\;" />\n<span style="color: rgb(13\, 6\, 0)\; font-family: Georgia\; font-size: 13.3333px\;">Vendors: Call to reserve your booth</span><br style="color: rgb(13\, 6\, 0)\; font-family: Georgia\; font-size: 13.3333px\;" />\n<span style="color: rgb(13\, 6\, 0)\; font-family: Georgia\; font-size: 13.3333px\;">$30 non electric\, $35 with electric</span>
LOCATION:EXPO 3 (fairgrounds) 455 W. Barton County Road Great Bend\, KS 67530
UID:e.2303.3309
SEQUENCE:3
DTSTAMP:20260422T155732Z
URL:https://members.greatbend.org/events/details/great-bend-saddle-club-flea-market-craft-fair-3309
END:VEVENT

END:VCALENDAR
