BEGIN:VCALENDAR
VERSION:2.0
PRODID:-//ChamberMaster//Event Calendar 2.0//EN
METHOD:PUBLISH
X-PUBLISHED-TTL:P3D
REFRESH-INTERVAL:P3D
CALSCALE:GREGORIAN
BEGIN:VEVENT
DTSTART;VALUE=DATE:20230329
DTEND;VALUE=DATE:20230330
TRANSP:TRANSPARENT
X-MICROSOFT-CDO-ALLDAYEVENT:TRUE
SUMMARY:Grown Up Spirit Week: Sports Day!
DESCRIPTION:Marketing Maven Launches NEW Grown Up Spirit Week Nationwide\n\n\n\nStudents everywhere get to dress up for fun\, themed Spirit Weeks but WHY does the fun have to stop when we grow up!?\n\n\n\nLet's have some fun at work!\n\n\n\nResearch shows that having fun at work has a positive impact on engagement\, creativity\, and purpose - increasing employee retention and reducing turnover. Because of this\, Marketing Maven is excited to announce a NEW Grown Up Spirit Week that will take place annually the last week of March. For the first EVER event\, Marketing Maven's past and present clients are among the first to know and are strongly encouraged to jump on board and participate! Your team can pick one\, two\, three\, or all five days to dress up at work and compete for cool prizes! It's team building\, it's great social media content\, and it's guaranteed to boost employee engagement.\n\n\n\nPrizes Galore Up for Grabs\n\n\n\nDaily prizes will be awarded for the best-dressed teams with a special grand prize package for the best week-long participation! And for individuals\, there will also be first place\, second place\, and third place prizes.\n\n\n\nRegister Your Team - Register your company or your department to participate!\n\n\n\nTeams are capped at 30 people. But if your whole company wants to participate\, multiple departments can sign up as separate teams and compete against one another for even more fun. We will email you some helpful information you can send around the office and provide fun updates and prize announcements throughout the week.\n\n\n\nIt is FREE to participate in Grown Up Spirit Week!
X-ALT-DESC;FMTTYPE=text/html:Marketing Maven Launches NEW Grown Up Spirit Week Nationwide<br />\n<br />\nStudents everywhere get to dress up for fun\, themed Spirit Weeks but WHY does the fun have to stop when we grow up!?<br />\n<br />\nLet&#39\;s have some fun at work!<br />\n<br />\nResearch shows that having fun at work has a positive impact on engagement\, creativity\, and purpose - increasing employee retention and reducing turnover. Because of this\, Marketing Maven is excited to announce a NEW Grown Up Spirit Week that will take place annually the last week of March. For the first EVER event\, Marketing Maven&#39\;s past and present clients are among the first to know and are strongly encouraged to jump on board and participate! Your team can pick one\, two\, three\, or all five days to dress up at work and compete for cool prizes! It&#39\;s team building\, it&#39\;s great social media content\, and it&#39\;s guaranteed to boost employee engagement.<br />\n<br />\nPrizes Galore Up for Grabs<br />\n<br />\nDaily prizes will be awarded for the best-dressed teams with a special grand prize package for the best week-long participation! And for individuals\, there will also be first place\, second place\, and third place prizes.<br />\n<br />\nRegister Your Team - Register your company or your department to participate!<br />\n<br />\nTeams are capped at 30 people. But if your whole company wants to participate\, multiple departments can sign up as separate teams and compete against one another for even more fun. We will email you some helpful information you can send around the office and provide fun updates and prize announcements throughout the week.<br />\n<br />\nIt is FREE to participate in Grown Up Spirit Week!
LOCATION:Your workplace!
UID:e.2303.11747
SEQUENCE:3
DTSTAMP:20260424T185234Z
URL:https://members.greatbend.org/events/details/grown-up-spirit-week-sports-day-11747
END:VEVENT

END:VCALENDAR
