BEGIN:VCALENDAR
VERSION:2.0
PRODID:-//ChamberMaster//Event Calendar 2.0//EN
METHOD:PUBLISH
X-PUBLISHED-TTL:P3D
REFRESH-INTERVAL:P3D
CALSCALE:GREGORIAN
BEGIN:VEVENT
DTSTART:20170212T003000Z
DTEND:20170212T030000Z
X-MICROSOFT-CDO-ALLDAYEVENT:FALSE
SUMMARY:Habitat for Humanity's Barton County's Got Flavor
DESCRIPTION:Barton County's Got Flavor is BACK and better than ever! On Saturday\, February 11th\, 2017\, Habitat for Humanity for Barton County is bringing you a great night of food prepared by our contestants\, followed up with what promises to be unforgettable entertainment! \n\n\n\nThis fundraiser for the local chapter of Habitat for Humanity\, will feature food and beverage tastings from 6-7:30 p.m.\, followed by the high energy entertainers from Dueling Pianos International at 8 p.m. (www.duelingpianoshows.com)\n\n\n\nYOU be the judge...Guests will have the opportunity to taste different pairings of food and drink\, prepared by local volunteer chefs. The guests are the judges and will vote for their favorite pairing. The winning teams receive a trophy for the professional division and cold hard cash for the individual division.\n\n\n\nTickets are $60 per couple for the tastings and the dueling piano show. The dinner is available for adults only\, and tickets are limited to the first 100 couples. Tickets for the dueling piano show by itself are available for $15 per person\, and children are welcome to attend (content will be family appropriate). \n\n\n\nFor more information or to reserve tickets\, contact us:\n\n\n\nEmail - habitatbartoncounty@hotmail.com\n\nOr\, send us a message through the Habitat for Humanity: Barton County Area Facebook page.\n\n\n\nTickets will also be available for purchase through the Great Bend Chamber of Commerce and Economic Development.\n\n\n\nDate - Feb 11\, 2017 \n\nTime - Between 06:30 PM and 09:00 PM \n\nType - Community Event \n\nCommunity - Great Bend \n\nLocation - Great Bend Events Center \n\nEmail - habitatbartoncounty@hotmail.com \n\nWebsite - https://www.facebook.com/BartonCountyHabitat/
X-ALT-DESC;FMTTYPE=text/html:<span style="color: rgb(13\, 6\, 0)\; font-family: Georgia\; font-size: 13.3333px\;">Barton County&#39\;s Got Flavor is BACK and better than ever! On Saturday\, February 11th\, 2017\, Habitat for Humanity for Barton County is bringing you a great night of food prepared by our contestants\, followed up with what promises to be unforgettable entertainment!&nbsp\;</span><br style="color: rgb(13\, 6\, 0)\; font-family: Georgia\; font-size: 13.3333px\;" />\n<br style="color: rgb(13\, 6\, 0)\; font-family: Georgia\; font-size: 13.3333px\;" />\n<span style="color: rgb(13\, 6\, 0)\; font-family: Georgia\; font-size: 13.3333px\;">This fundraiser for the local chapter of Habitat for Humanity\, will feature food and beverage tastings from 6-7:30 p.m.\, followed by the high energy entertainers from Dueling Pianos International at 8 p.m. (www.duelingpianoshows.com)</span><br style="color: rgb(13\, 6\, 0)\; font-family: Georgia\; font-size: 13.3333px\;" />\n<br style="color: rgb(13\, 6\, 0)\; font-family: Georgia\; font-size: 13.3333px\;" />\n<span style="color: rgb(13\, 6\, 0)\; font-family: Georgia\; font-size: 13.3333px\;">YOU be the judge...Guests will have the opportunity to taste different pairings of food and drink\, prepared by local volunteer chefs. The guests are the judges and will vote for their favorite pairing. The winning teams receive a trophy for the professional division and cold hard cash for the individual division.</span><br style="color: rgb(13\, 6\, 0)\; font-family: Georgia\; font-size: 13.3333px\;" />\n<br style="color: rgb(13\, 6\, 0)\; font-family: Georgia\; font-size: 13.3333px\;" />\n<span style="color: rgb(13\, 6\, 0)\; font-family: Georgia\; font-size: 13.3333px\;">Tickets are $60 per couple for the tastings and the dueling piano show. The dinner is available for adults only\, and tickets are limited to the first 100 couples. Tickets for the dueling piano show by itself are available for $15 per person\, and children are welcome to attend (content will be family appropriate).&nbsp\;</span><br style="color: rgb(13\, 6\, 0)\; font-family: Georgia\; font-size: 13.3333px\;" />\n<br style="color: rgb(13\, 6\, 0)\; font-family: Georgia\; font-size: 13.3333px\;" />\n<span style="color: rgb(13\, 6\, 0)\; font-family: Georgia\; font-size: 13.3333px\;">For more information or to reserve tickets\, contact us:</span><br style="color: rgb(13\, 6\, 0)\; font-family: Georgia\; font-size: 13.3333px\;" />\n<br style="color: rgb(13\, 6\, 0)\; font-family: Georgia\; font-size: 13.3333px\;" />\n<span style="color: rgb(13\, 6\, 0)\; font-family: Georgia\; font-size: 13.3333px\;">Email - habitatbartoncounty@hotmail.com</span><br style="color: rgb(13\, 6\, 0)\; font-family: Georgia\; font-size: 13.3333px\;" />\n<span style="color: rgb(13\, 6\, 0)\; font-family: Georgia\; font-size: 13.3333px\;">Or\, send us a message through the Habitat for Humanity: Barton County Area Facebook page.</span><br style="color: rgb(13\, 6\, 0)\; font-family: Georgia\; font-size: 13.3333px\;" />\n<br style="color: rgb(13\, 6\, 0)\; font-family: Georgia\; font-size: 13.3333px\;" />\n<span style="color: rgb(13\, 6\, 0)\; font-family: Georgia\; font-size: 13.3333px\;">Tickets will also be available for purchase through the Great Bend Chamber of Commerce and Economic Development.</span><br style="color: rgb(13\, 6\, 0)\; font-family: Georgia\; font-size: 13.3333px\;" />\n<br style="color: rgb(13\, 6\, 0)\; font-family: Georgia\; font-size: 13.3333px\;" />\n<span style="color: rgb(13\, 6\, 0)\; font-family: Georgia\; font-size: 13.3333px\;">Date - Feb 11\, 2017&nbsp\;</span><br style="color: rgb(13\, 6\, 0)\; font-family: Georgia\; font-size: 13.3333px\;" />\n<span style="color: rgb(13\, 6\, 0)\; font-family: Georgia\; font-size: 13.3333px\;">Time - Between 06:30 PM and 09:00 PM&nbsp\;</span><br style="color: rgb(13\, 6\, 0)\; font-family: Georgia\; font-size: 13.3333px\;" />\n<span style="color: rgb(13\, 6\, 0)\; font-family: Georgia\; font-size: 13.3333px\;">Type - Community Event&nbsp\;</span><br style="color: rgb(13\, 6\, 0)\; font-family: Georgia\; font-size: 13.3333px\;" />\n<span style="color: rgb(13\, 6\, 0)\; font-family: Georgia\; font-size: 13.3333px\;">Community - Great Bend&nbsp\;</span><br style="color: rgb(13\, 6\, 0)\; font-family: Georgia\; font-size: 13.3333px\;" />\n<span style="color: rgb(13\, 6\, 0)\; font-family: Georgia\; font-size: 13.3333px\;">Location - Great Bend Events Center&nbsp\;</span><br style="color: rgb(13\, 6\, 0)\; font-family: Georgia\; font-size: 13.3333px\;" />\n<span style="color: rgb(13\, 6\, 0)\; font-family: Georgia\; font-size: 13.3333px\;">Email -&nbsp\;</span><a href="mailto:habitatbartoncounty@hotmail.com" style="font-family: Georgia\; font-size: 13.3333px\;">habitatbartoncounty@hotmail.com</a><span style="color: rgb(13\, 6\, 0)\; font-family: Georgia\; font-size: 13.3333px\;">&nbsp\;</span><br style="color: rgb(13\, 6\, 0)\; font-family: Georgia\; font-size: 13.3333px\;" />\n<span style="color: rgb(13\, 6\, 0)\; font-family: Georgia\; font-size: 13.3333px\;">Website -&nbsp\;</span><a href="http://https//www.facebook.com/BartonCountyHabitat/" style="font-family: Georgia\; font-size: 13.3333px\;" target="_blank">https://www.facebook.com/BartonCountyHabitat/</a>
LOCATION:
UID:e.2303.1721
SEQUENCE:3
DTSTAMP:20260423T013049Z
URL:https://members.greatbend.org/events/details/habitat-for-humanity-s-barton-county-s-got-flavor-1721
END:VEVENT

END:VCALENDAR
