BEGIN:VCALENDAR
VERSION:2.0
PRODID:-//ChamberMaster//Event Calendar 2.0//EN
METHOD:PUBLISH
X-PUBLISHED-TTL:P3D
REFRESH-INTERVAL:P3D
CALSCALE:GREGORIAN
BEGIN:VEVENT
DTSTART:20241007T223000Z
DTEND:20241008T000000Z
X-MICROSOFT-CDO-ALLDAYEVENT:FALSE
SUMMARY:Hamburger Feed
DESCRIPTION:Join us on the first Monday of every month for Hamburger Night at American Legion Post 180! From 5:30 PM to 7:00 PM\, we're serving up delicious handmade hamburgers for just $7.00 each. Whether you dine in with friends and family or take your meal to-go\, it's the perfect way to enjoy a classic burger night while supporting a good cause.\n\nLocated at 1011 Kansas Ave in Great Bend\, KS\, this event is open to the public\, so all are welcome to come and enjoy. Proceeds from Hamburger Night benefit the Sons of the American Legion and their important programs\, including child welfare advocacy\, the Fort Dodge Soldiers' Home\, and other initiatives that support veterans and their families.\n\nMark your calendar and bring your appetite! By joining us for a great meal\, you'll also be contributing to valuable programs that make a difference in our community. Carry-out options are available for those on the go!
X-ALT-DESC;FMTTYPE=text/html:<p>Join us on the first Monday of every month for Hamburger Night at American Legion Post 180! From 5:30 PM to 7:00 PM\, we&rsquo\;re serving up delicious handmade hamburgers for just $7.00 each. Whether you dine in with friends and family or take your meal to-go\, it&rsquo\;s the perfect way to enjoy a classic burger night while supporting a good cause.</p>\n\n<p>Located at 1011 Kansas Ave in Great Bend\, KS\, this event is open to the public\, so all are welcome to come and enjoy. Proceeds from Hamburger Night benefit the Sons of the American Legion and their important programs\, including&nbsp\;child welfare advocacy\, the Fort Dodge Soldiers&#39\; Home\, and other initiatives that support veterans and their families.</p>\n\n<p>Mark your calendar and bring your appetite! By joining us for a great meal\, you&rsquo\;ll also be contributing to valuable programs that make a difference in our community. Carry-out options are available for those on the go!</p>\n
LOCATION:American Legion Post 180 1011 Kansas Ave Great Bend\, KS 67530
UID:e.2303.14434
SEQUENCE:3
DTSTAMP:20260422T225418Z
URL:https://members.greatbend.org/events/details/hamburger-feed-14434
END:VEVENT

END:VCALENDAR
