BEGIN:VCALENDAR
VERSION:2.0
PRODID:-//ChamberMaster//Event Calendar 2.0//EN
METHOD:PUBLISH
X-PUBLISHED-TTL:P3D
REFRESH-INTERVAL:P3D
CALSCALE:GREGORIAN
BEGIN:VEVENT
DTSTART:20170422T140000Z
DTEND:20170422T170000Z
X-MICROSOFT-CDO-ALLDAYEVENT:FALSE
SUMMARY:Healing Hearts Ranch - C4 Parenting Program
DESCRIPTION:Healing Hearts Ranch invites Parents to attend the C4 Parenting Program on Saturday\, April 22nd. C4 Parenting Program is based on "communication\, connection\, cooperation\, and confidence" which are taught through the training process of a horse. We teach specific training techniques with the horse\, focusing on building a relationship\, communication\, establishing a safe place\, appropriate discipline\, follow through\, pressure/release\, and unconditional love. We are able to teach this process with different personalities of horses that might fit your child such as a sensitive or reactive child and how we as parents respond to him or her in certain situations. Parents will then practice the training process with the horse. Buy tickets using the link below.
X-ALT-DESC;FMTTYPE=text/html:<span style="color: rgb(13\, 6\, 0)\; font-family: Georgia\; font-size: 13.3333px\;">Healing Hearts Ranch invites Parents to attend the C4 Parenting Program on Saturday\, April 22nd. C4 Parenting Program is based on &quot\;communication\, connection\, cooperation\, and confidence&quot\; which are taught through the training process of a horse. We teach specific training techniques with the horse\, focusing on building a relationship\, communication\, establishing a safe place\, appropriate discipline\, follow through\, pressure/release\, and unconditional love. We are able to teach this process with different personalities of horses that might fit your child such as a sensitive or reactive child and how we as parents respond to him or her in certain situations. Parents will then practice the training process with the horse. Buy tickets using the link below.</span>
LOCATION:Healing Hearts Ranch Pawnee County 174 KS Hwy. 19 East Larned\, KS 67550
UID:e.2303.1012
SEQUENCE:3
DTSTAMP:20260422T220529Z
URL:https://members.greatbend.org/events/details/healing-hearts-ranch-c4-parenting-program-1012
END:VEVENT

END:VCALENDAR
