BEGIN:VCALENDAR
VERSION:2.0
PRODID:-//ChamberMaster//Event Calendar 2.0//EN
METHOD:PUBLISH
X-PUBLISHED-TTL:P3D
REFRESH-INTERVAL:P3D
CALSCALE:GREGORIAN
BEGIN:VEVENT
DTSTART:20171021T200000Z
DTEND:20171022T030000Z
X-MICROSOFT-CDO-ALLDAYEVENT:FALSE
SUMMARY:Healing Hearts Rodeo
DESCRIPTION:$5 Per Person 9 & Under FREE $25 Max per family\n\n\n\nActivities $5 wrist bands for unlimited ranch games\, horse rides\, face painting\, jump houses lots of fun for every age\n\n\n\n$40 Team entry fee 4 person team.\n\n\n\nEntry Deadline October 1 to register call 620-792-5173\n\n\n\nGates open and activities begin at 3 p.m.\n\n\n\nRanch Horse Competition Begins at 3:30 p.m.
X-ALT-DESC;FMTTYPE=text/html:<span style="color: rgb(13\, 6\, 0)\; font-family: Georgia\; font-size: 13.3333px\;">$5 Per Person 9 &amp\; Under FREE $25 Max per family</span><br style="color: rgb(13\, 6\, 0)\; font-family: Georgia\; font-size: 13.3333px\;" />\n<br style="color: rgb(13\, 6\, 0)\; font-family: Georgia\; font-size: 13.3333px\;" />\n<span style="color: rgb(13\, 6\, 0)\; font-family: Georgia\; font-size: 13.3333px\;">Activities $5 wrist bands for unlimited ranch games\, horse rides\, face painting\, jump houses lots of fun for every age</span><br style="color: rgb(13\, 6\, 0)\; font-family: Georgia\; font-size: 13.3333px\;" />\n<br style="color: rgb(13\, 6\, 0)\; font-family: Georgia\; font-size: 13.3333px\;" />\n<span style="color: rgb(13\, 6\, 0)\; font-family: Georgia\; font-size: 13.3333px\;">$40 Team entry fee 4 person team.</span><br style="color: rgb(13\, 6\, 0)\; font-family: Georgia\; font-size: 13.3333px\;" />\n<br style="color: rgb(13\, 6\, 0)\; font-family: Georgia\; font-size: 13.3333px\;" />\n<span style="color: rgb(13\, 6\, 0)\; font-family: Georgia\; font-size: 13.3333px\;">Entry Deadline October 1 to register call 620-792-5173</span><br style="color: rgb(13\, 6\, 0)\; font-family: Georgia\; font-size: 13.3333px\;" />\n<br style="color: rgb(13\, 6\, 0)\; font-family: Georgia\; font-size: 13.3333px\;" />\n<span style="color: rgb(13\, 6\, 0)\; font-family: Georgia\; font-size: 13.3333px\;">Gates open and activities begin at 3 p.m.</span><br style="color: rgb(13\, 6\, 0)\; font-family: Georgia\; font-size: 13.3333px\;" />\n<br style="color: rgb(13\, 6\, 0)\; font-family: Georgia\; font-size: 13.3333px\;" />\n<span style="color: rgb(13\, 6\, 0)\; font-family: Georgia\; font-size: 13.3333px\;">Ranch Horse Competition Begins at 3:30 p.m.</span>
LOCATION:Great Bend Expo Complex
UID:e.2303.3041
SEQUENCE:3
DTSTAMP:20260422T132004Z
URL:https://members.greatbend.org/events/details/healing-hearts-rodeo-3041
END:VEVENT

END:VCALENDAR
