BEGIN:VCALENDAR
VERSION:2.0
PRODID:-//ChamberMaster//Event Calendar 2.0//EN
METHOD:PUBLISH
X-PUBLISHED-TTL:P3D
REFRESH-INTERVAL:P3D
CALSCALE:GREGORIAN
BEGIN:VEVENT
DTSTART:20170829T230000Z
DTEND:20170830T000000Z
X-MICROSOFT-CDO-ALLDAYEVENT:FALSE
SUMMARY:Health Chat!
DESCRIPTION:Attend PM Sleep Lab's very first Health Chat\, August 29th\, 2017. Once a quarter\, we will meet at the Great Bend Chamber of Commerce and Economic Development\, 1125 Williams St.\, from 6-7:00 pm and chat about all things health related. Bring your questions! Attendance is free and all are welcome.
X-ALT-DESC;FMTTYPE=text/html:<span style="color: rgb(13\, 6\, 0)\; font-family: Georgia\; font-size: 13.3333px\;">Attend PM Sleep Lab&rsquo\;s very first Health Chat\, August 29th\, 2017. Once a quarter\, we will meet at the Great Bend Chamber of Commerce and Economic Development\, 1125 Williams St.\, from 6-7:00 pm and chat about all things health related. Bring your questions! Attendance is free and all are welcome.</span>
LOCATION:Spray Holt Family Board Room 1125 Williams Great Bend\, KS 67530
UID:e.2303.3018
SEQUENCE:3
DTSTAMP:20260422T155226Z
URL:https://members.greatbend.org/events/details/health-chat-3018
END:VEVENT

END:VCALENDAR
