BEGIN:VCALENDAR
VERSION:2.0
PRODID:-//ChamberMaster//Event Calendar 2.0//EN
METHOD:PUBLISH
X-PUBLISHED-TTL:P3D
REFRESH-INTERVAL:P3D
CALSCALE:GREGORIAN
BEGIN:VEVENT
DTSTART:20260314T140000Z
DTEND:20260314T200000Z
X-MICROSOFT-CDO-ALLDAYEVENT:FALSE
SUMMARY:Hearing God's Voice
DESCRIPTION:Pray with Your Whole Self: A Lenten Retreat Experience ????? Have you ever felt that prayer could be more than just words? Join Sr. Annie Killian\, OP\, for a day dedicated to the "Nine Ways of Prayer"\, a beautiful\, centuries-old tradition of connecting body and soul. What we'll explore: ? Intuitive listening to the heart and body. ? Traditional Christian contemplation. ? St. Dominic's "Nine Ways of Prayer" through poses\, meditation\, and song. All poses are optional and modifications are provided. Bring a mat or towel if you'd like! Registration Deadline February 27\,2026
X-ALT-DESC;FMTTYPE=text/html:Pray with Your Whole Self: A Lenten Retreat Experience ????? Have you ever felt that prayer could be more than just words? Join Sr. Annie Killian\, OP\, for a day dedicated to the &quot\;Nine Ways of Prayer&quot\;\, a beautiful\, centuries-old tradition of connecting body and soul. What we&rsquo\;ll explore: ? Intuitive listening to the heart and body. ? Traditional Christian contemplation. ? St. Dominic&rsquo\;s &quot\;Nine Ways of Prayer&quot\; through poses\, meditation\, and song. All poses are optional and modifications are provided. Bring a mat or towel if you&rsquo\;d like! Registration Deadline February 27\,2026
LOCATION:3600 Broadway\, Great Bend\, Ks
UID:e.2303.18052
SEQUENCE:3
DTSTAMP:20260419T123903Z
URL:https://members.greatbend.org/events/details/hearing-god-s-voice-18052
END:VEVENT

END:VCALENDAR
