BEGIN:VCALENDAR
VERSION:2.0
PRODID:-//ChamberMaster//Event Calendar 2.0//EN
METHOD:PUBLISH
X-PUBLISHED-TTL:P3D
REFRESH-INTERVAL:P3D
CALSCALE:GREGORIAN
BEGIN:VEVENT
DTSTART:20170930T110000Z
DTEND:20170930T170000Z
X-MICROSOFT-CDO-ALLDAYEVENT:FALSE
SUMMARY:Hero for Heartland 5k Run / Walk
DESCRIPTION:Heartland Center for Spirituality and Heartland Farm are excited to announce the debut of our second exciting event of 2017.\n\n\n\nEvent Details:\n\n\n\n  Race includes\n\n  5K Run or Walk \n\n  1 mile run for 12 and under \n\n  kiddie dash ages 2 -11 (500 yards)\n\n\n\n  Race Day Schedule \n\n  6:30 A.M.   Registration \n\n  7:10 A.M.   Race Instructions\n\n  7:20 A.M.   Walk Begins\n\n  7:40 A.M.   Run Begins\n\n  8:45 A.M.   1 Mile and Kiddie Dash Begins\n\n\n\n  Awards given to the top three females and males in the following age divisions\n\n  19 years and under\, 20   29\, 30   39\, 40   49\, 50 and Over\n\n  1 mile run and kidde dash will have overall awards for top 3 places\n\n\n\n  Registration   Early Registration due by September 22\, 2017\n\n  5K Run or Walk - Individual Registration $35 (Includes T-Shirt)\n\n  Early Registration $25   Includes T-shirt \n\n  Race Day Registration - $35   Shirts $10 (If available)\n\n  1 mile and Kiddie Dash - Indiviudal registration $25 (Includes T-Shirt)\n\n  Early Registration - $15   Includes T-Shirt \n\n  Race Day Registration $25   Shirts $10 (if available)
X-ALT-DESC;FMTTYPE=text/html:<span style="color: rgb(13\, 6\, 0)\; font-family: Georgia\; font-size: 13.3333px\;">Heartland Center for Spirituality and Heartland Farm are excited to announce the debut of our second exciting event of 2017.</span><br style="color: rgb(13\, 6\, 0)\; font-family: Georgia\; font-size: 13.3333px\;" />\n<br style="color: rgb(13\, 6\, 0)\; font-family: Georgia\; font-size: 13.3333px\;" />\n<span style="color: rgb(13\, 6\, 0)\; font-family: Georgia\; font-size: 13.3333px\;">Event Details:</span><br style="color: rgb(13\, 6\, 0)\; font-family: Georgia\; font-size: 13.3333px\;" />\n<br style="color: rgb(13\, 6\, 0)\; font-family: Georgia\; font-size: 13.3333px\;" />\n<span style="color: rgb(13\, 6\, 0)\; font-family: Georgia\; font-size: 13.3333px\;">&bull\; Race includes</span><br style="color: rgb(13\, 6\, 0)\; font-family: Georgia\; font-size: 13.3333px\;" />\n<span style="color: rgb(13\, 6\, 0)\; font-family: Georgia\; font-size: 13.3333px\;">&bull\;&nbsp\;5K Run or Walk&nbsp\;</span><br style="color: rgb(13\, 6\, 0)\; font-family: Georgia\; font-size: 13.3333px\;" />\n<span style="color: rgb(13\, 6\, 0)\; font-family: Georgia\; font-size: 13.3333px\;">&bull\;&nbsp\;1 mile run for 12 and under&nbsp\;</span><br style="color: rgb(13\, 6\, 0)\; font-family: Georgia\; font-size: 13.3333px\;" />\n<span style="color: rgb(13\, 6\, 0)\; font-family: Georgia\; font-size: 13.3333px\;">&bull\;&nbsp\;kiddie dash ages 2 -11 (500 yards)</span><br style="color: rgb(13\, 6\, 0)\; font-family: Georgia\; font-size: 13.3333px\;" />\n<br style="color: rgb(13\, 6\, 0)\; font-family: Georgia\; font-size: 13.3333px\;" />\n<span style="color: rgb(13\, 6\, 0)\; font-family: Georgia\; font-size: 13.3333px\;">&bull\; Race Day Schedule&nbsp\;</span><br style="color: rgb(13\, 6\, 0)\; font-family: Georgia\; font-size: 13.3333px\;" />\n<span style="color: rgb(13\, 6\, 0)\; font-family: Georgia\; font-size: 13.3333px\;">&bull\;&nbsp\;6:30 A.M. &ndash\; Registration&nbsp\;</span><br style="color: rgb(13\, 6\, 0)\; font-family: Georgia\; font-size: 13.3333px\;" />\n<span style="color: rgb(13\, 6\, 0)\; font-family: Georgia\; font-size: 13.3333px\;">&bull\;&nbsp\;7:10 A.M. &ndash\; Race Instructions</span><br style="color: rgb(13\, 6\, 0)\; font-family: Georgia\; font-size: 13.3333px\;" />\n<span style="color: rgb(13\, 6\, 0)\; font-family: Georgia\; font-size: 13.3333px\;">&bull\;&nbsp\;7:20 A.M. &ndash\; Walk Begins</span><br style="color: rgb(13\, 6\, 0)\; font-family: Georgia\; font-size: 13.3333px\;" />\n<span style="color: rgb(13\, 6\, 0)\; font-family: Georgia\; font-size: 13.3333px\;">&bull\;&nbsp\;7:40 A.M. &ndash\; Run Begins</span><br style="color: rgb(13\, 6\, 0)\; font-family: Georgia\; font-size: 13.3333px\;" />\n<span style="color: rgb(13\, 6\, 0)\; font-family: Georgia\; font-size: 13.3333px\;">&bull\;&nbsp\;8:45 A.M. &ndash\; 1 Mile and Kiddie Dash Begins</span><br style="color: rgb(13\, 6\, 0)\; font-family: Georgia\; font-size: 13.3333px\;" />\n<br style="color: rgb(13\, 6\, 0)\; font-family: Georgia\; font-size: 13.3333px\;" />\n<span style="color: rgb(13\, 6\, 0)\; font-family: Georgia\; font-size: 13.3333px\;">&bull\; Awards given to the top three females and males in the following age divisions</span><br style="color: rgb(13\, 6\, 0)\; font-family: Georgia\; font-size: 13.3333px\;" />\n<span style="color: rgb(13\, 6\, 0)\; font-family: Georgia\; font-size: 13.3333px\;">&bull\;&nbsp\;19 years and under\, 20 &ndash\; 29\, 30 &ndash\; 39\, 40 &ndash\; 49\, 50 and Over</span><br style="color: rgb(13\, 6\, 0)\; font-family: Georgia\; font-size: 13.3333px\;" />\n<span style="color: rgb(13\, 6\, 0)\; font-family: Georgia\; font-size: 13.3333px\;">&bull\;&nbsp\;1 mile run and kidde dash will have overall awards for top 3 places</span><br style="color: rgb(13\, 6\, 0)\; font-family: Georgia\; font-size: 13.3333px\;" />\n<br style="color: rgb(13\, 6\, 0)\; font-family: Georgia\; font-size: 13.3333px\;" />\n<span style="color: rgb(13\, 6\, 0)\; font-family: Georgia\; font-size: 13.3333px\;">&bull\; Registration &ndash\; Early Registration due by September 22\, 2017</span><br style="color: rgb(13\, 6\, 0)\; font-family: Georgia\; font-size: 13.3333px\;" />\n<span style="color: rgb(13\, 6\, 0)\; font-family: Georgia\; font-size: 13.3333px\;">&bull\;&nbsp\;5K Run or Walk - Individual Registration $35 (Includes T-Shirt)</span><br style="color: rgb(13\, 6\, 0)\; font-family: Georgia\; font-size: 13.3333px\;" />\n<span style="color: rgb(13\, 6\, 0)\; font-family: Georgia\; font-size: 13.3333px\;">&bull\;&nbsp\;Early Registration $25 &ndash\; Includes T-shirt&nbsp\;</span><br style="color: rgb(13\, 6\, 0)\; font-family: Georgia\; font-size: 13.3333px\;" />\n<span style="color: rgb(13\, 6\, 0)\; font-family: Georgia\; font-size: 13.3333px\;">&bull\;&nbsp\;Race Day Registration - $35 &ndash\; Shirts $10 (If available)</span><br style="color: rgb(13\, 6\, 0)\; font-family: Georgia\; font-size: 13.3333px\;" />\n<span style="color: rgb(13\, 6\, 0)\; font-family: Georgia\; font-size: 13.3333px\;">&bull\;&nbsp\;1 mile and Kiddie Dash - Indiviudal registration $25 (Includes T-Shirt)</span><br style="color: rgb(13\, 6\, 0)\; font-family: Georgia\; font-size: 13.3333px\;" />\n<span style="color: rgb(13\, 6\, 0)\; font-family: Georgia\; font-size: 13.3333px\;">&bull\;&nbsp\;Early Registration - $15 &ndash\; Includes T-Shirt&nbsp\;</span><br style="color: rgb(13\, 6\, 0)\; font-family: Georgia\; font-size: 13.3333px\;" />\n<span style="color: rgb(13\, 6\, 0)\; font-family: Georgia\; font-size: 13.3333px\;">&bull\;&nbsp\;Race Day Registration $25 &ndash\; Shirts $10 (if available)</span>
LOCATION:Great Bend
UID:e.2303.1692
SEQUENCE:3
DTSTAMP:20260422T144058Z
URL:https://members.greatbend.org/events/details/hero-for-heartland-5k-run-walk-1692
END:VEVENT

END:VCALENDAR
