BEGIN:VCALENDAR
VERSION:2.0
PRODID:-//ChamberMaster//Event Calendar 2.0//EN
METHOD:PUBLISH
X-PUBLISHED-TTL:P3D
REFRESH-INTERVAL:P3D
CALSCALE:GREGORIAN
BEGIN:VEVENT
DTSTART:20180420T230000Z
DTEND:20180421T020000Z
X-MICROSOFT-CDO-ALLDAYEVENT:FALSE
SUMMARY:Hoisington Chamber of Commerce - Sip & Shop
DESCRIPTION:The Hoisington Chamber of Commerce invites you to Sip & Sop with vendors\, a fundraiser for Hoisington Chamber programs.
X-ALT-DESC;FMTTYPE=text/html:The Hoisington Chamber of Commerce invites you to Sip &amp\; Sop with vendors\, a fundraiser for&nbsp\;Hoisington&nbsp\;Chamber programs.&nbsp\;
LOCATION:Hoisington City Building 109 E. First Street Hoisington\, KS 67544
UID:e.2303.3740
SEQUENCE:3
DTSTAMP:20260422T094137Z
URL:https://members.greatbend.org/events/details/hoisington-chamber-of-commerce-sip-shop-3740
END:VEVENT

END:VCALENDAR
