BEGIN:VCALENDAR
VERSION:2.0
PRODID:-//ChamberMaster//Event Calendar 2.0//EN
METHOD:PUBLISH
X-PUBLISHED-TTL:P3D
REFRESH-INTERVAL:P3D
CALSCALE:GREGORIAN
BEGIN:VEVENT
DTSTART:20171203T200000Z
DTEND:20171203T220000Z
X-MICROSOFT-CDO-ALLDAYEVENT:FALSE
SUMMARY:Holiday Decor
DESCRIPTION:Xi Delta Upsilon is again hosting the Holiday D cor on Sunday\, December 3rd from 2 to 4 at Flavored Celebrations at 1315 Stone in Great Bend\, KS. Donations will be taken at the door as well as the opportunity to win a centerpiece from Kustom Floors for local charities.
X-ALT-DESC;FMTTYPE=text/html:Xi Delta Upsilon is again hosting the Holiday D&eacute\;cor on Sunday\, December 3rd from 2 to 4 at Flavored Celebrations at 1315 Stone in Great Bend\, KS. Donations will be taken at the door as well as the opportunity to win a centerpiece from Kustom Floors for local charities.
LOCATION:Flavored Celebrations 1315 Stone in Great Bend\, KS
UID:e.2303.2902
SEQUENCE:3
DTSTAMP:20260422T092142Z
URL:https://members.greatbend.org/events/details/holiday-decor-2902
END:VEVENT

END:VCALENDAR
