BEGIN:VCALENDAR
VERSION:2.0
PRODID:-//ChamberMaster//Event Calendar 2.0//EN
METHOD:PUBLISH
X-PUBLISHED-TTL:P3D
REFRESH-INTERVAL:P3D
CALSCALE:GREGORIAN
BEGIN:VEVENT
DTSTART:20170829T140000Z
DTEND:20170829T170000Z
X-MICROSOFT-CDO-ALLDAYEVENT:FALSE
SUMMARY:Human Resources Policy Workshop
DESCRIPTION:Join the WorkFit team and Barton Community College for a Human Resources Policy Workshop!\n\n\n\nPolicies serve several important functions:\n\nCommunicate values and expectations for how things are done at your organization.\n\nKeep the organization in compliance with legislation and provide protection against employment claims.\n\nDocument and implement best practices appropriate to the organization.\n\nSupport consistent treatment of staff\, fairness and transparency.\n\nHelp management to make decisions that are consistent\, uniform and predictable.\n\n\n\nPresenter: Mr. Larry Michel\, Attorney with Kennedy Berkley Yarnevich & Williamson of Salina\, KS.\n\n\n\nTo register\, please contact:\n\nKrystall Barnes @ 620-786-7575 or barnesk@bartonccc.edu
X-ALT-DESC;FMTTYPE=text/html:<span style="color: rgb(13\, 6\, 0)\; font-family: Georgia\; font-size: 13.3333px\;">Join the WorkFit team and Barton Community College for a Human Resources Policy Workshop!</span><br style="color: rgb(13\, 6\, 0)\; font-family: Georgia\; font-size: 13.3333px\;" />\n<br style="color: rgb(13\, 6\, 0)\; font-family: Georgia\; font-size: 13.3333px\;" />\n<span style="color: rgb(13\, 6\, 0)\; font-family: Georgia\; font-size: 13.3333px\;">Policies serve several important functions:</span><br style="color: rgb(13\, 6\, 0)\; font-family: Georgia\; font-size: 13.3333px\;" />\n<span style="color: rgb(13\, 6\, 0)\; font-family: Georgia\; font-size: 13.3333px\;">Communicate values and expectations for how things are done at your organization.</span><br style="color: rgb(13\, 6\, 0)\; font-family: Georgia\; font-size: 13.3333px\;" />\n<span style="color: rgb(13\, 6\, 0)\; font-family: Georgia\; font-size: 13.3333px\;">Keep the organization in compliance with legislation and provide protection against employment claims.</span><br style="color: rgb(13\, 6\, 0)\; font-family: Georgia\; font-size: 13.3333px\;" />\n<span style="color: rgb(13\, 6\, 0)\; font-family: Georgia\; font-size: 13.3333px\;">Document and implement best practices appropriate to the organization.</span><br style="color: rgb(13\, 6\, 0)\; font-family: Georgia\; font-size: 13.3333px\;" />\n<span style="color: rgb(13\, 6\, 0)\; font-family: Georgia\; font-size: 13.3333px\;">Support consistent treatment of staff\, fairness and transparency.</span><br style="color: rgb(13\, 6\, 0)\; font-family: Georgia\; font-size: 13.3333px\;" />\n<span style="color: rgb(13\, 6\, 0)\; font-family: Georgia\; font-size: 13.3333px\;">Help management to make decisions that are consistent\, uniform and predictable.</span><br style="color: rgb(13\, 6\, 0)\; font-family: Georgia\; font-size: 13.3333px\;" />\n<br style="color: rgb(13\, 6\, 0)\; font-family: Georgia\; font-size: 13.3333px\;" />\n<span style="color: rgb(13\, 6\, 0)\; font-family: Georgia\; font-size: 13.3333px\;">Presenter: Mr. Larry Michel\, Attorney with Kennedy Berkley Yarnevich &amp\; Williamson of Salina\, KS.</span><br style="color: rgb(13\, 6\, 0)\; font-family: Georgia\; font-size: 13.3333px\;" />\n<br style="color: rgb(13\, 6\, 0)\; font-family: Georgia\; font-size: 13.3333px\;" />\n<span style="color: rgb(13\, 6\, 0)\; font-family: Georgia\; font-size: 13.3333px\;">To register\, please contact:</span><br style="color: rgb(13\, 6\, 0)\; font-family: Georgia\; font-size: 13.3333px\;" />\n<span style="color: rgb(13\, 6\, 0)\; font-family: Georgia\; font-size: 13.3333px\;">Krystall Barnes @ 620-786-7575 or barnesk@bartonccc.edu</span>
LOCATION:Barton Community College Learning Resource Center Plaza De Cavanaugh Room (L116) 245 NE 30 Rd Great Bend\, KS 67530
UID:e.2303.3046
SEQUENCE:3
DTSTAMP:20260422T155144Z
URL:https://members.greatbend.org/events/details/human-resources-policy-workshop-3046
END:VEVENT

END:VCALENDAR
