BEGIN:VCALENDAR
VERSION:2.0
PRODID:-//ChamberMaster//Event Calendar 2.0//EN
METHOD:PUBLISH
X-PUBLISHED-TTL:P3D
REFRESH-INTERVAL:P3D
CALSCALE:GREGORIAN
BEGIN:VEVENT
DTSTART:20220709T150000Z
DTEND:20220709T180000Z
X-MICROSOFT-CDO-ALLDAYEVENT:FALSE
SUMMARY:Humane Society Community Give Back
DESCRIPTION:Golden Belt Humane Society gives back to the community in conjunction with the partnership of Chewy and the Humane Society of the United States. Pet food and all kinds of pet products have been donated for community owned pets. All products are free. Included with this event - staff and volunteers of Golden Belt Humane Society will be onsite offering microchipping services for community pets for $25.00 each pet.
X-ALT-DESC;FMTTYPE=text/html:Golden Belt Humane Society gives back to the community in conjunction with the partnership of Chewy and the Humane Society of the United States. Pet food and all kinds of pet products have been donated for community owned pets. All products are free. Included with this event - staff and volunteers of Golden Belt Humane Society will be onsite offering microchipping services for community pets for $25.00 each pet.
LOCATION:Brit Spaugh Park 24th and Main Great Bend\, Ks
UID:e.2303.10814
SEQUENCE:3
DTSTAMP:20260423T032514Z
URL:https://members.greatbend.org/events/details/humane-society-community-give-back-10814
END:VEVENT

END:VCALENDAR
