BEGIN:VCALENDAR
VERSION:2.0
PRODID:-//ChamberMaster//Event Calendar 2.0//EN
METHOD:PUBLISH
X-PUBLISHED-TTL:P3D
REFRESH-INTERVAL:P3D
CALSCALE:GREGORIAN
BEGIN:VEVENT
DTSTART:20171007T130000Z
DTEND:20171007T160000Z
X-MICROSOFT-CDO-ALLDAYEVENT:FALSE
SUMMARY:Hunter Appreciation Breakfast
DESCRIPTION:Duck hunting season begins on Saturday\, October 7 for the Low Plains Early Zone. Cheyenne Bottoms Wildlife Area offers premier waterfowl hunting opportunities and the traditions that go with those hunts. In what has become a new tradition over the last four years\, duck hunters are invited to stop by the Kansas Wetlands Education Center (located at the southeast corner of Cheyenne Bottoms along K-156 Highway) after their hunt on October 7 from 8 to 11am for a free Hunter Appreciation breakfast. Biscuits and gravy\, coffee\, and juice will be served. \n\n\n\nAfter filling up on good eats\, hunters can learn about Cheyenne Bottoms' history at the education center\, peruse through items in the Cheyenne Bottoms Ducks Unlimited Chapter raffle and silent auction\, visit waterfowl identification and hunting information booths\, as well as share your hunting stories with fellow hunters and KDWPT staff. For more information about the breakfast\, call the KWEC at 877-243-9268.
X-ALT-DESC;FMTTYPE=text/html:<span style="color: rgb(13\, 6\, 0)\; font-family: Georgia\; font-size: 13.3333px\;">Duck hunting season begins on Saturday\, October 7 for the Low Plains Early Zone. Cheyenne Bottoms Wildlife Area offers premier waterfowl hunting opportunities and the traditions that go with those hunts. In what has become a new tradition over the last four years\, duck hunters are invited to stop by the Kansas Wetlands Education Center (located at the southeast corner of Cheyenne Bottoms along K-156 Highway) after their hunt on October 7 from 8 to 11am for a free Hunter Appreciation breakfast. Biscuits and gravy\, coffee\, and juice will be served.&nbsp\;</span><br style="color: rgb(13\, 6\, 0)\; font-family: Georgia\; font-size: 13.3333px\;" />\n<br style="color: rgb(13\, 6\, 0)\; font-family: Georgia\; font-size: 13.3333px\;" />\n<span style="color: rgb(13\, 6\, 0)\; font-family: Georgia\; font-size: 13.3333px\;">After filling up on good eats\, hunters can learn about Cheyenne Bottoms&#39\; history at the education center\, peruse through items in the Cheyenne Bottoms Ducks Unlimited Chapter raffle and silent auction\, visit waterfowl identification and hunting information booths\, as well as share your hunting stories with fellow hunters and KDWPT staff. For more information about the breakfast\, call the KWEC at 877-243-9268.</span>
LOCATION:Kansas Wetlands Education Center 592 NE K-156 Hwy Great Bend\, KS 67530
UID:e.2303.3016
SEQUENCE:3
DTSTAMP:20260422T131011Z
URL:https://members.greatbend.org/events/details/hunter-appreciation-breakfast-3016
END:VEVENT

END:VCALENDAR
