BEGIN:VCALENDAR
VERSION:2.0
PRODID:-//ChamberMaster//Event Calendar 2.0//EN
METHOD:PUBLISH
X-PUBLISHED-TTL:P3D
REFRESH-INTERVAL:P3D
CALSCALE:GREGORIAN
BEGIN:VEVENT
DTSTART;VALUE=DATE:20180113
DTEND;VALUE=DATE:20180114
TRANSP:TRANSPARENT
X-MICROSOFT-CDO-ALLDAYEVENT:TRUE
SUMMARY:ICY Sidewalk Sale
DESCRIPTION:Store times vary. Over 30 stores participating!
X-ALT-DESC;FMTTYPE=text/html:Store times vary. Over 30 stores participating!
LOCATION:
UID:e.2303.3618
SEQUENCE:3
DTSTAMP:20260422T093638Z
URL:https://members.greatbend.org/events/details/icy-sidewalk-sale-01-13-2018-3618
END:VEVENT

END:VCALENDAR
