BEGIN:VCALENDAR
VERSION:2.0
PRODID:-//ChamberMaster//Event Calendar 2.0//EN
METHOD:PUBLISH
X-PUBLISHED-TTL:P3D
REFRESH-INTERVAL:P3D
CALSCALE:GREGORIAN
BEGIN:VEVENT
DTSTART:20240517T220000Z
DTEND:20240518T010000Z
X-MICROSOFT-CDO-ALLDAYEVENT:FALSE
SUMMARY:IGNITE the Night @ 10-39 Cafe
DESCRIPTION:The IGNITE Rural Business Competition\, organized by Great Bend Economic Development\, continues to ignite the entrepreneurial spirit in Barton County\, providing a platform for local businesses to thrive and innovate. Designed to empower emerging ventures\, IGNITE has been a catalyst for transformation\, exemplified by the recent success of 10-39 Cafe in Ellinwood. Through the competition\, 10-39 Cafe's owners honed their business plan\, received mentorship\, and navigated through rounds of eliminations to reach the live finals of the 2023 event. Their hard work paid off as they clinched 2nd place\, earning a $30\,000 grant\, and secured the People's Choice award\, adding an extra $5\,000 to their prize money.\n\n \n\nTo celebrate this success\, IGNITE the Night with 10-39 Cafe will take place on this Friday\, May 17th between 5-8 pm at 10-39 Cafe\, 104 W 1st in Ellinwood. This event celebrates 10-39 Cafe's journey to success\, and the community is invited to join the celebration.\n\n \n\nAttendees can expect an evening filled with camaraderie\, celebration\, and inspiration. Complimentary appetizers\, entries for door prizes\, and drink tickets will be provided\, offering a taste of the atmosphere at 10-39 Cafe. 10-39 Cafe's full menu is also available to purchase food that evening as well.\n\n \n\nTo learn more about IGNITE and to relive the excitement of the 2023 Grand Finale\, visit www.igniteks.com.
X-ALT-DESC;FMTTYPE=text/html:The IGNITE Rural Business Competition\, organized by Great Bend Economic Development\, continues to ignite the entrepreneurial spirit in Barton County\, providing a platform for local businesses to thrive and innovate. Designed to empower emerging ventures\, IGNITE has been a catalyst for transformation\, exemplified by the recent success of 10-39 Cafe in Ellinwood. Through the competition\, 10-39 Cafe&#39\;s owners honed their business plan\, received mentorship\, and navigated through rounds of eliminations to reach the live finals of the 2023 event. Their hard work paid off as they clinched 2nd place\, earning a $30\,000 grant\, and secured the People&#39\;s Choice award\, adding an extra $5\,000 to their prize money.<br />\n&nbsp\;<br />\nTo celebrate this success\, IGNITE the Night with 10-39 Cafe will take place on this Friday\, May 17th between 5-8 pm at 10-39 Cafe\, 104 W 1st in Ellinwood. This event celebrates 10-39 Cafe&#39\;s journey to success\, and the community is invited to join the celebration.<br />\n&nbsp\;<br />\nAttendees can expect an evening filled with camaraderie\, celebration\, and inspiration. Complimentary appetizers\, entries for door prizes\, and drink tickets will be provided\, offering a taste of the atmosphere at 10-39 Cafe. 10-39 Cafe&rsquo\;s full menu is also available to purchase food that evening as well.<br />\n&nbsp\;<br />\nTo learn more about IGNITE and to relive the excitement of the 2023 Grand Finale\, visit&nbsp\;<a data-saferedirecturl="https://www.google.com/url?hl=en&amp\;q=http://www.igniteks.com/&amp\;source=gmail&amp\;ust=1715722422020000&amp\;usg=AOvVaw0tl4MoqIDkTJAblAtvuDQs" href="http://www.igniteks.com/" style="font-family:arial\, sans-serif\;color:rgb(149\, 79\, 114)\;text-decoration-line:none\;" target="_blank">www.igniteks.com</a>.<br />\n&nbsp\;
LOCATION:10-39 Cafe 104 W 1st St Ellinwood\, KS 67526
UID:e.2303.13623
SEQUENCE:3
DTSTAMP:20260425T171216Z
URL:https://members.greatbend.org/events/details/ignite-the-night-10-39-cafe-13623
END:VEVENT

END:VCALENDAR
