BEGIN:VCALENDAR
VERSION:2.0
PRODID:-//ChamberMaster//Event Calendar 2.0//EN
METHOD:PUBLISH
X-PUBLISHED-TTL:P3D
REFRESH-INTERVAL:P3D
CALSCALE:GREGORIAN
BEGIN:VEVENT
DTSTART:20170601T220000Z
DTEND:20170602T000000Z
X-MICROSOFT-CDO-ALLDAYEVENT:FALSE
SUMMARY:INSPIRE Speaker Series: Mitch Holthus
DESCRIPTION:The community is invited to a special evening with Mitch Holthus\, Voice of the Kansas City Chiefs. \n\n\n\nThe INSPIRE Speaker Event will take place on Thursday\, June 1st at Stoneridge Country Club from 5-7pm. Registration for the event is $20 per person and includes heavy hors d'oeuvres & cocktails\, as well as a keynote address from Mitch. \n\n\n\nMitch will also join us for golf at the 12th Annual Gary Gore Memorial Tournament scheduled for Friday\, June 2nd. We hope you'll consider joining us for sporting fun too! \n\n\n\nPlease visit the registration website below\, or contact the Great Bend Chamber of Commerce & Economic Development to learn more.
X-ALT-DESC;FMTTYPE=text/html:<span style="color: rgb(13\, 6\, 0)\; font-family: Georgia\; font-size: 13.3333px\;">The community is invited to a special evening with Mitch Holthus\, Voice of the Kansas City Chiefs.&nbsp\;</span><br style="color: rgb(13\, 6\, 0)\; font-family: Georgia\; font-size: 13.3333px\;" />\n<br style="color: rgb(13\, 6\, 0)\; font-family: Georgia\; font-size: 13.3333px\;" />\n<span style="color: rgb(13\, 6\, 0)\; font-family: Georgia\; font-size: 13.3333px\;">The INSPIRE Speaker Event will take place on Thursday\, June 1st at Stoneridge Country Club from 5-7pm. Registration for the event is $20 per person and includes heavy hors d&#39\;oeuvres &amp\; cocktails\, as well as a keynote address from Mitch.&nbsp\;</span><br style="color: rgb(13\, 6\, 0)\; font-family: Georgia\; font-size: 13.3333px\;" />\n<br style="color: rgb(13\, 6\, 0)\; font-family: Georgia\; font-size: 13.3333px\;" />\n<span style="color: rgb(13\, 6\, 0)\; font-family: Georgia\; font-size: 13.3333px\;">Mitch will also join us for golf at the 12th Annual Gary Gore Memorial Tournament scheduled for Friday\, June 2nd. We hope you&#39\;ll consider joining us for sporting fun too!&nbsp\;</span><br style="color: rgb(13\, 6\, 0)\; font-family: Georgia\; font-size: 13.3333px\;" />\n<br style="color: rgb(13\, 6\, 0)\; font-family: Georgia\; font-size: 13.3333px\;" />\n<span style="color: rgb(13\, 6\, 0)\; font-family: Georgia\; font-size: 13.3333px\;">Please visit the registration website below\, or contact the Great Bend Chamber of Commerce &amp\; Economic Development to learn more.</span>
LOCATION:Stoneridge Country Club 1438 24th St Great Bend\, KS
UID:e.2303.1651
SEQUENCE:3
DTSTAMP:20260422T172820Z
URL:https://members.greatbend.org/events/details/inspire-speaker-series-mitch-holthus-1651
END:VEVENT

END:VCALENDAR
