BEGIN:VCALENDAR
VERSION:2.0
PRODID:-//ChamberMaster//Event Calendar 2.0//EN
METHOD:PUBLISH
X-PUBLISHED-TTL:P3D
REFRESH-INTERVAL:P3D
CALSCALE:GREGORIAN
BEGIN:VEVENT
DTSTART:20190627T230000Z
DTEND:20190628T004000Z
X-MICROSOFT-CDO-ALLDAYEVENT:FALSE
SUMMARY:Interactive Film Follies
DESCRIPTION:For high school teens (grades 9-12). Watch an old sci-fi cult classic movie and talk\, shout\, and laugh at the screen as you poke fun at it.
X-ALT-DESC;FMTTYPE=text/html:For high school teens (grades 9-12). Watch an old sci-fi cult classic movie and talk\, shout\, and laugh at the screen as you poke fun at it.
LOCATION:Great Bend Public Library 1409 Williams St
UID:e.2303.7008
SEQUENCE:3
DTSTAMP:20260419T122410Z
URL:https://members.greatbend.org/events/details/interactive-film-follies-7008
END:VEVENT

END:VCALENDAR
